Workbook
Name KDB출자_요청액: '열제목별 목록값'!$C$20:$C$22
Name 공동투자약정_상대방_유형: '열제목별 목록값'!$C$25:$C$29
Name 구분: '열제목별 목록값'!$C$4:$C$6
Name 납입방식: '열제목별 목록값'!$C$23:$C$24
Name 담당역할: '열제목별 목록값'!$F$55:$F$59
Name 대표이사_구분: '열제목별 목록값'!$C$82:$C$84
Name 대표이사_참여인력_개요: '3.1 대표이사&참여인력 개요'!$E$6:$AH$15
Name 대표이사_참여인력_경력: '3.4 대표이사&참여인력 경력'!$E$11:$Y$21
Name 대표이사_참여인력_투자현황: '3.2 참여인력 투자현황'!$E$6:$BB$273
Name 대표이사참여인력경력: '3.4 대표이사&참여인력 경력'!$E$11:$Y$21
Name 동반투자자유형: '열제목별 목록값'!$C$77:$C$81
Name 민간출자자인센티브: '열제목별 목록값'!$F$87:$F$89
Name 스튜어드십코드참여여부: '열제목별 목록값'!$C$92:$C$93
Name 신청리그: '열제목별 목록값'!$C$8:$C$11
Name 신청분야: '열제목별 목록값'!$C$4:$C$6
Name 업무협력유형: '열제목별 목록값'!$F$68:$F$75
Name 업무협력현황: '5.1 업무협력 현황'!$D$11:$N$50
Name 여부: '열제목별 목록값'!$C$85:$C$86
Name 예상출자내역: '1.2 예상출자내역'!$E$11:$J$205
Name 운용사_추가_인센티브__선택: '열제목별 목록값'!$C$94:$C$97
Name 운용사유형: '열제목별 목록값'!$C$62:$C$71
Name 운용사인센티브: '열제목별 목록값'!$C$94:$C$97
Name 재직회사_유형: '열제목별 목록값'!$F$66:$F$67
Name 정책출자: '열제목별 목록값'!$C$20:$C$22
Name 제안사_대표이사_변경이력: #REF!
Name 제안사_투자현황: '2.4 제안사 투자현황'!$E$6:$AG$20
Name 제안사_펀드현황: '2.3 제안사 펀드현황'!$E$6:$CC$14
Name 제안서작성기준일: '1.1 제안펀드'!$E$11
Name 제안펀드의_주목적투자분야와_관련성: '열제목별 목록값'!$F$77:$F$80
Name 주목적_투자제안형: '열제목별 목록값'!$C$8:$C$9
Name 주목적투자분야_투자제안형: '열제목별 목록값'!$C$8:$C$9
Name 주요업무수행내역: '열제목별 목록값'!$F$60:$F$65
Name 참여인력구분: '열제목별 목록값'!$F$4:$F$7
Name 출자자유형: '열제목별 목록값'!$C$51:$C$58
Name 출자자인센티브: '열제목별 목록값'!$F$87:$F$90
Name 출자확정구분: '열제목별 목록값'!$C$59:$C$61
Name 투자계정구분: '열제목별 목록값'!$F$43:$F$47
Name 투자기업_법인유형: '열제목별 목록값'!$F$48:$F$52
Name 투자유형: '열제목별 목록값'!$F$9:$F$20
Name 펀드_거래: '4.1 펀드거래'!$A$2:$D$1989
Name 펀드거래유형: '열제목별 목록값'!$F$37:$F$41
Name 펀드계정구분: '열제목별 목록값'!$F$81:$F$83
Name 펀드구분: '열제목별 목록값'!$F$84:$F$86
Name 펀드법적유형: '열제목별 목록값'!$C$30:$C$48
Name 펀드상태: '열제목별 목록값'!$C$72:$C$76
Name 펀드유형__투자대상확정여부: '열제목별 목록값'!$C$49:$C$50
Name 핵심운용인력_변경구분: '열제목별 목록값'!$C$87:$C$91
Name 핵심운용인력_변경내역: '4.2 핵심운용인력 변경이력'!$A$2:$E$500
Name 핵심운용인력변경구분: '열제목별 목록값'!$C$87:$C$91
Name 회수구분: '열제목별 목록값'!$F$25:$F$27
Name 회수유형: '열제목별 목록값'!$F$28:$F$36

Sheet 열제목별 목록값
A1: Ⅰ. 열제목별 목록값
A3: 구분 | C3: 목록값 | E3: 구분 | F3: 목록값 | H3: 구분 | I3: 목록값
A4: 구분 | C4: 생태계전반 대형 | E4: 참여인력구분 | F4: 대표펀드매니저 | H4: 투자촉진인센티브 구분
C5: 특정목표 지원 코스닥 | F5: 핵심운용인력
C6: 특정목표 지원 M&A | F6: 일반운용인력 | H6: 목표결성금액 | I6: 120000
C7: 특정목표 지원 AI반도체 중형 | F7: 관리인력
A8: 주목적투자분야① | C8: Pre-IPO/코스닥 상장 첨단산업 중소중견기업
C9: 첨단산업 중소중견기업 | E9: 투자유형 | F9: 보통주 | H9: 정책출자금액
C10: 첨단산업 중소중견기업의 M&A | F10: 우선주(RCPS포함)
C11: AI 또는 반도체 산업 영위 중소중견기업 | F11: BW
A12: 주목적투자분야② | C12: Pre-IPO/코스닥 상장 혁신성장공동기준 중소중견기업 | F12: CB | H12: 업무협력구분 | I12: 대출
C13: 혁신성장공동기준 중소중견기업 | F13: 기타메자닌증권 | I13: 투자
C14: 혁신성장공동기준 중소중견기업의 M&A | F14: 프로젝트투자(문화·컨텐츠 분야 한정) | I14: 인수금융
A15: 주목적투자분야③ (선택) | C15: 주목적투자분야①의 의무투자비율 상향 | F15: 일반회사채 | I15: 기타
C16: 첨단전략산업 분야 중 1개 선택하여 투자 | F16: 자펀드출자 | H16: 산업은행 출자사업 | I16: '18년 성장지원펀드
C17: Pre-IPO/코스닥 상장 혁신성장공동기준 중소중견기업 | F17: 대출채권 | I17: '19년 성장지원펀드
C18: 해당없음 | F18: 대여금 | I18: '20년 성장지원펀드
F19: 펀드청산시자본계정투자 | I19: '20년 소부장펀드
A20: 정책출자 | C20: 43% 이내 | F20: 기타 | I20: '21년 소부장펀드
C21: 40% 이내 | I21: '21년 뉴딜펀드
C22: 54% 이내 | I22: '22년 뉴딜펀드
A23: 납입방식 | C23: 수시납 | I23: '23년 혁신성장펀드
C24: 분할납 | I24: '24년 혁신성장펀드
A25: 공동투자약정 상대방 유형 | C25: 제안사 펀드 | E25: 회수구분 | F25: 회수료 | I25: '25년 혁신성장펀드
C26: 타운용사 펀드 | F26: 부분회수 | I26: '25년 반도체생태계펀드(재정)
C27: 전략적투자자(SI) | F27: 미회수 | I27: '25년 원전산업성장펀드
C28: 재무적투자자(FI) | E28: 회수유형 | F28: 장외매각
C29: 기타 | F29: 장외매각(M&A)
A30: 펀드법적유형 | C30: PE-(가) | F30: 코스닥
C31: PE-(나) | F31: 코스피
C32: PE-(다) | F32: 환매
C33: PE-(라) | F33: 운용사자본계정매각
C34: PE-(마) | F34: 상환
C35: VC-(가) | F35: 현물분배
C36: VC-(나) | F36: 기타
C37: VC-(다) | E37: 펀드거래유형 | F37: 납입
C38: VC-(라) | F38: 현금분배
C39: VC-(마) | F39: 현물분배
C40: VC-(바) | F40: 성과보수
C41: VC-(사) | F41: 가상분배
...

Sheet 작성요령
A1: Ⅰ.작성시 주의사항
A3: [공통사항]
A4: 1. 별첨(1.1~5.1) 자료 작성전에 본 사항을 반드시 숙지할 것 (별첨번호는 Sheet별 머리글에서 확인 가능)
A5: 2. 일자는 yyyy-mm-dd, 주민등록번호 앞 6자리까지만 '111111'로 기재(외국인의 경우 여권상 생년월일 6자리)
A6: 사업자등록번호는 000-00-00000, 법인등록번호는 000000-0000000 형식으로 입력
A7: 3. drop down 목록이 있는 셀은 목록에서 선택하고 다른 값을 입력하지 말 것
A8: 4. 'Alt+Enter'나 연이은 공백은 입력하지 말 것
A9: 5. 연록색으로 음영처리된 셀은 자동 반영되므로 별도의 입력은 하지 말 것
A10: - 당사의 사전 허락 없이 수식을 편집한 경우는 허위사실 기재로 간주될 수 있음
A11: 6. 펀드명, 회사명 등은 정식명칭을 기입(sheet간 명칭에 차이가 없도록 유의)
A12: 7. 목록행(1행~10행)은 절대 삭제 및 수정 금지. 또한, Sheet 삭제 및 명칭 변경 금지
A13: 8. 단위 : 백만원([4.1. 펀드거래] Sheet 는 단위를 "원"으로 함), %, 건
... A36: Ⅱ. 용어의 정의 등
A38: 제안서 작성 기준일 | C38: 46022
A39: 설립일 | C39: 제안사 법인등기부등본 상의 설립일
A40: 펀드운용업무시작일 | C40: 제안사가 펀드법적유형 중 하나에 해당하는 자격을 가지고 있는 경우 해당 자격 취득일
C41: 자격이 필요 없는 경우는 조직개편일 등
C42: ※ M&A 또는 회사분할 등이 있었던 경우 변경전의 펀드운용업무시작일을 기재
A43: 운용펀드 최초결성일 (펀드성립일) | C43: 펀드 규약(또는 정관) 상에 제안사가 운용사로 기재된 펀드 중 아래의 '펀드' 기준을 충족하는 펀드로서,
C44: 결성일이 가장 빠른 펀드의 펀드결성일 (최초결성일은 펀드성립일을 기준으로 함)
C45: ※ PE펀드로 지원시 PE 펀드 최초 결성일, VC펀드로 지원시 VC펀드 최초 결성일, 기타 주식등 투자 펀드의 경우 기타 주식등 투자 펀드 최초 결성일 작성
C46: ※ M&A이전 운용 펀드와 회사분할 후 운용한 펀드는 고려하되 회사분할 이전에 청산한 펀드는 제외
C47: ※ 제안사 최초 결성 펀드는 펀드성립일을 확인할 수 있는 자료 (벤처투자조합 : 중기부 조합 등록증, 신기술투자조합 : 결성총회의사록 및 규약, PEF : 법인등기부등본, 기타 펀드 : 상기에 준하는 성립일자 확인가능자료) 제출
A48: 펀드 | C48: ⅰ) 투자자를 사모로 모집한 경우로서 (즉, 사모펀드)
C49: ⅱ) 법적유형이 다음 중 하나에 해당하는 경우에 한하며
C50: ① PE펀드
C51: - "PE-(가)" : [자본시장과금융투자업에관한법률]제9조18항7호('15.7.24자 삭제되기 전의 것을 말함)에 따른 사모투자전문회사
C52: - "PE-(나)" : [자본시장과금융투자업에관한법률]제9조19항1호('21.4.20자 삭제되기 전의 것을 말함)에 따른 경영참여형 사모집합투자기구 ('21.10.21일 이전설립)
C53: - "PE-(다)" : [자본시장과금융투자업에관한법률]제249조의7 5항에 따른 경영참여목적 투자를 하는 제9조19항2호의 일반사모집합투자기구 ('21.10.21일 이후 설립)
C54: - "PE-(라)" : [자본시장과금융투자업에관한법률]제249조의7 5항에 따른 경영참여목적 투자를 하는 제9조19항1호의 기관전용사모집합투자기구 ('21.10.21일 이후 설립)
C55: - "PE-(마)" : (코스닥 리그에 한하여 선택 가능) [자본시장과금융투자업에관한법률]제9조19항1호에 따른(경영참여목적 투자 외) 기관전용사모집합투자기구 ('21.10.21일 이후 설립)로, Pre-IPO, 코스닥 상장기업에 주로 투자하는 펀드
C56: ② VC펀드
C57: - "VC-(가)" : [벤처투자촉진에관한법률]제2조제11호에 따른 벤처투자조합
C58: - "VC-(나)" : [중소기업창원지원법]제2조제5호('20.2.11자 삭제되기 전의 것을 말함)에 따른 중소기업창업투자조합
C59: - "VC-(다)" : [벤처기업육성에관한특별조치법]제4조의3('20.2.11자 삭제되기 전의 것을 말함)에 따른 한국벤처투자조합
C60: - "VC-(라)" : [소재·부품·장비산업경쟁력강화및공급망안정화를위한특별조치법]제18조에 따른 소재·부품·장비 전문투자조합
... C74: 트레이딩 등 단기투자 펀드, 펀드 결성부터 해산까지의 기간이 1년 이내인 펀드는 제외함
A75: 펀드운용 | C75: 의사결정, 투자대상 발굴, 투자검토 및 투자실행, 사후관리, 회수 업무
A76: 펀드결성(예정)일 | C76: 관련 법령에 따라 감독기관에 등록한 날 또는 그 예정일
C77: 등록이 필요없는 경우 결성총회일, 창립총회일 또는 계약체결일
...

Sheet Self-Check
A1: SELF-CHECK LIST
A2: 항목 | B2: 결과 | C2: 비고
A3: Sheet 1.1 제안펀드
A4: 1. '제안서작성기준일'을 임의로 기입 여부 (작성요령 중 Ⅱ. 용어의 정의 등' 참조) | B4: =IF(작성요령!C38=제안서작성기준일,"OK","확인 필요") -> OK | C4: 자동체크
A5: Sheet 1.2 예상출자내역
A6: 1. G열 출자확정시 - "제안사", "계열회사 및 특수관계인", "펀드참여인력"은 "운용사" 선택 - "정책기관", "민간출자자"는 "LOC" 선택 2. G열 출자확정여부 : LOC 기입 적정성 확인 * 구속력 있는 출자약정 등이 아님에도 불구 LOC로 기재하지는 않았는지 | B6: 확인필요 | C6: 수기입력
A7: Sheet 2.4 제안사 투자현황
A8: 1.투자금액(N열) = 회수투자자산 투자원금(T열) + 감액금액(X열) + 미회수투자자산 투자원금(Z열) | B8: =IF((SUM('2.4 제안사 투자현황'!N:N)=SUM('2.4 제안사 투자현황'!T:T)+SUM('2.4 제안사 투자현황'!X:X)+SUM('2.4 제안사 투자현황'!Z:Z)),"OK","확인필요") -> OK | C8: 자동체크
A9: 2. 회수총액(S열) : "회수료" 및 "부분회수" 투자건에 대해 실제 펀드계정에서 회수한 총 금액 기재 (미회수 투자건*은 0원 기재) * 원금회수가 없는 회수(보통주 배당금 수령, 메자닌 투자 이자 등만 수취한 경우) → "미회수"로 기입 | B9: 확인필요 | C9: 수기입력
A10: 3. 미회수 투자자산 가치(AA)열의 적정한 기재 - 시장성 자산(상장기업, IPO, 시가평가대상 회사채 등) → 시가(작성기준일 종가, 공모예정가, 채권시가 등) - 비사장성 자산 : 최근 년도 감사보고서(또는 가결산보고서) 상 금액 | B10: 확인필요 | C10: 수기입력
A11: 4. 감액사실이 있는 경우, "회수료" 선택 후 관련 내용을 입력하였는지 | B11: =IF((COUNTIFS('2.4 제안사 투자현황'!W:W,"YES",'2.4 제안사 투자현황'!O:O,"회수료")= COUNTIF('2.4 제안사 투자현황'!W:W,"YES")),"OK","확인필요") -> OK | C11: 자동체크
A12: Sheet 3.1 대표이사&참여인력 개요
A13: 1. 대표펀드매니저 지정 여부(Q열) | B13: =IF(AND(COUNTIF('3.1 대표이사&참여인력 개요'!Q:Q,"대표펀드매니저")=1),"OK","확인필요") -> OK | C13: 자동체크
A14: 2. 주요 평가대상 지정 여부(R열) - Q열에서 지정한 대펀,핵운과 별개로 실제 평가대상 인원을 반드시 지정 - 대표펀드매니저 1인, 핵심운용인력 2인 (Co-GP인 경우 대표펀드매니저 1인, 핵심운용인력 1인) * 평가대상 인원은 정확히 기준과 정확히 일치시킬 것 (예 : 대펀 1인, 핵운 3인 → 불가) | B14: 확인필요 | C14: 수기입력
A15: Sheet 3.2 참여인력 투자현황
A16: 1.동일 투자건에 다수의 인력을 기재하지는 않았는지 (기여도 높은 1인만 기재 필요) | B16: 확인필요 | C16: 수기입력
A17: 2. 작성대상에 해당하는 투자건만 입력하였는지 ⅰ) 자산에 대한 투자 또는 자산운용을 목적으로 설립된 법인(금융투자기관에 한정) 재직 중에 ⅱ) 투자실행일이 2016년 1월 1일 이후인 아래의 조건을 만족하는 투자만 작성 ① PE/VC 펀드계정 투자 : 해당 법인의 PE/VC펀드계정을 통해 주식 또는 주식연계채권(문화·컨텐츠등에 대한 프로젝트 투자 포함) 투자 ② PE/VC 고유계정 투자 : 해당 법인의 PE/VC 투자 전담부서에서 고유계정을 통해 주식 또는 주식연계채권(문화·컨텐츠등에 대한 프로젝트 투자포함) 투자 ③ 기타 투자 : ①, ②에 해당하지 않는 주식 또는 주식연계채권(문화·컨텐츠등에 대한 프로젝트 투자 포함) 투자 | B17: 확인필요 | C17: 수기입력
A18: 3.투자금액(T열) = 회수투자자산 투자원금(AA열) + 감액금액(AE열) + 미회수투자자산 투자원금(AG열) | B18: =IF((SUM('3.2 참여인력 투자현황'!T:T)=SUM('3.2 참여인력 투자현황'!AA:AA)+SUM('3.2 참여인력 투자현황'!AE:AE)+SUM('3.2 참여인력 투자현황'!AG:AG)),"OK","확인필요") -> OK | C18: 자동체크
A19: 4. 회수총액(Z열) : "회수료" 및 "부분회수" 투자건에 대해 실제 펀드계정에서 회수한 총 금액 기재 (미회수 투자건*은 0원 기재) * 원금회수가 없는 회수(보통주 배당금 수령, 메자닌 투자 이자 등만 수취한 경우) → "미회수"로 기입 | B19: 확인필요 | C19: 수기입력
A20: 5. 미회수 투자자산 가치(AH)열의 적정한 기재 - 시장성 자산(상장기업, IPO, 시가평가대상 회사채 등) → 시가(작성기준일 종가, 공모예정가, 채권시가 등) - 비사장성 자산 : 최근 년도 감사보고서(또는 가결산보고서) 상 금액 | B20: 확인필요 | C20: 수기입력
A21: 6. 감액사실이 있는 경우, "회수료" 선택 후 관련 내용을 입력하였는지 | B21: =IF((COUNTIFS('3.2 참여인력 투자현황'!AD:AD,"YES",'3.2 참여인력 투자현황'!V:V,"회수료")= COUNTIF('3.2 참여인력 투자현황'!AD:AD,"YES")),"OK","확인필요") -> OK | C21: 자동체크
A22: Sheet 3.4 대표이사&참여인력 경력
A23: 1. "3.4 참여인력 경력" 상 담당기간이 경력관련 증빙서류와 일치하는지 확인 | B23: 확인필요 | C23: 수기입력
A24: 2. 투자업무 수행내역 YES 선택했으나 주요업무 수행내역에는 비투자업무 선택 여부 | B24: =IF(COUNTIFS('3.4 대표이사&참여인력 경력'!S:S,"YES",'3.4 대표이사&참여인력 경력'!T:T,"비투자업무")=1,"확인필요","OK") -> OK | C24: 자동체크
A25: 3. 주요업무 수행내역을 기준에 맞게 입력하였는지 ※ '주요업무 수행내역'는 아래의 기준에 따라 선택 ① PE/VC펀드운용 : PE/VC 펀드계정을 통한 투자업무 ② PE/VC고유계정투자 : PE/VC 고유계정을 통한 투자업무 ③ 기타투자업무 : M&A자문, IPO, 투자컨설팅, 부실채권, LP업무 등 기타 투자업무와 관련하여 투자대상 발굴·투자검토·사후관리·회수 등의 실무 수행 또는 의사결정 과정에 참여한 업무 (대출, 외환 등 투자와 무관한 업무 제외) ④ 비투자업무 : 자산에 대한 투자 또는 자산운용을 목적으로 설립된 법인(금융투자기관) 외 업무 | B25: 확인필요 | C25: 수기입력
A26: Sheet 4.1 펀드거래
A27: 1. 운용중/청산중 펀드의 수익률 계산을 위해 "가상분배" 항목을 입력하였는지 - [2.3제안사 펀드현황 시트] 상의 [펀드 순자산]금액 X 1,000,000(원단위) | B27: 확인필요 | C27: 수기입력

Sheet 1.1 제안펀드
E4: 제안서 작성 기준일 | F4: 제안펀드 | R4: 보수 | U4: 인센티브 | W4: 제안사 | AC4: 제안펀드 담당자 | AF4: (단위: 백만원)
F5: 펀드명 | G5: 투자기구 | H5: 구분 | I5: 주목적투자분야① | J5: 주목적투자분야② | K5: 주목적투자분야③ (선택) | L5: 목표결성금액 | M5: 정책출자비율 | N5: 존속기간 | O5: 투자기간 | P5: 납입방식 | Q5: 목표 수익율 (IRR) | R5: 기준 수익률 | S5: 성과보수 제안 | T5: 관리보수제안 | U5: 운용사 인센티브 (선택) | V5: 민간출자자 인센티브 (선택) | W5: 회사명 | X5: 법인등록번호 | Y5: 출자약정예상액 | Z5: 우선 손실 충당 조건 | AA5: 참여 핵심 운용 인력수 | AB5: 참여 일반 운용 인력수 | AC5: 성명 | AD5: 소속 | AE5: 연락처
E11: 46022 | F11: 국민성장사모투자합자회사 | G11: PE-(라) | H11: 생태계전반 코스닥 | I11: Pre-IPO/코스닥 상장 첨단산업 중소중견기업 | J11: Pre-IPO/코스닥 상장 혁신성장공동기준 중소중견기업 | K11: 주목적투자분야①의 의무투자비율 상향 | L11: 150000 | M11: 43% 이내 | N11: 10 | O11: 5 | P11: 수시납 | Q11: 0.2 | R11: 0.07 | U11: 신속투자 인센티브 | V11: 초과수익 이전 | X11: 000000-0000000 | Y11: 10000 | Z11: 최소결성금액 or 약정총액의 o.oo% (최소 000백만원, 최대 000백만원) | AA11: 3 | AB11: 3 | AC11: 홍길동 | AD11: 가인베스트먼트 | AE11: 070-2222-2222
L12: * 공고문상 목표결성금액

Sheet 1.2 예상출자내역
E4: 출자자유형 | F4: 출자자명 | G4: 출자확정구분 | H4: 출자약정예상액 | I4: 기타 제안조건(우선손실충당 등) | J4: 비고
I7: 비고
E11: 정책 및 지정출자자 | F11: 한국산업은행 등 | G11: 정책출자 | H11: 64000 | J11: 요청금액
E12: 제안사 | F12: 가인베스트먼트 | G12: 운용사 | H12: 20000 | I12: 목표결성금액의 o.oo% (최소 000백만원, 최대 000백만원) or 정액 000백만원
E13: 계열회사 및 특수관계인 | F13: 홍길동 | G13: 운용사 | H13: 20000 | I13: 목표결성금액의 o.oo% (최소 000백만원, 최대 000백만원) or 정액 000백만원 | J13: 최대주주 본인

Sheet 2.1 제안사 개요
E4: 기본정보 | L4: 업력 | P4: 주소 | S4: 인원 | V4: 제안사 내규 현황 | AB4: 담당자 | AI4: 청산완료 펀드 | AR4: 운용(결성)예정/운용중/청산중 펀드 | BA4: PE펀드계정 투자 | BI4: VC펀드계정 투자 | BQ4: 기타 주식등 투자펀드 계정
E5: 제안사명 | F5: 법인 등록번호 | G5: 사업자 등록번호 | H5: 대표자명 | I5: 제안사유형 | J5: 총발행주식수 | K5: ESG 투자체계 구축 및 운용여부 | L5: 설립일 | M5: 펀드운용 업무 시작일 | N5: 운용펀드 최초결성일 (지원 펀드) | O5: 운용펀드 최초결성일 (지원 펀드 外) | P5: 우편번호 | Q5: 주소 | R5: 주소상세 | S5: 전체 인원수 | T5: 펀드운용 담당 인력수 | U5: 자본계정 투자 담당인력수 | V5: 리스크관리 기준 보유 유무 | W5: 리스크관리전담조직 유무 | X5: 내부통제 기준 보유 유무 | Y5: 내부통제 전담조식 유무 | Z5: 운용인력앞성과보수 지급규정 보유 유무 | AA5: 규정상 성과보수 최대지급 비율 | AB5: 성명 | AC5: 부서 | AD5: 직위 | AE5: 전화 | AF5: 팩스 | AG5: 휴대전화 번호 | AH5: Email | AI5: 펀드수 | AJ5: 약정총액 | AK5: 납입총액 | AL5: 투자총액 | AM5: 회수총액 | AN5: 출자자앞 분배총액 | AO5: 성과보수 지급총액 | AP5: 납입총액 가중평균 펀드 수익률 (IRR) | AQ5: 펀드 수익율 (Multiple) | AR5: 펀드수 | AS5: 약정총액 | AT5: 납입총액 | AU5: 투자총액 | AV5: 회수총액 | AW5: 출자자앞 분배총액 | AX5: 성과보수 지급총액 | AY5: 펀드 순자산 | AZ5: 추가투자 예상금액 | BA5: 투자건수 | BB5: 투자건수 (회수료) | BC5: 투자총액 | BD5: 회수총액 | BE5: 미회수 투자자산 투자원금 총액 | BF5: 미회수 투자자산 가치총액 | BG5: 투자금액 가중평균 수익율 | BH5: 투자금액 가중평균 수익율 (회수료) | BI5: 투자건수 | BJ5: 투자건수 (회수료) | BK5: 투자총액 | BL5: 회수총액 | BM5: 미회수 투자자산 투자원금 총액 | BN5: 미회수 투자자산 가치총액 | BO5: 투자금액 가중수익율 | BP5: 투자금액 가중평균 수익율 (회수료) | BQ5: 투자건수 | BR5: 투자건수 (회수료) | BS5: 투자총액 | BT5: 회수총액 | BU5: 미회수 투자자산 투자원금 총액 | BV5: 미회수 투자자산 가치총액 | BW5: 투자금액 가중수익율 | BX5: 투자금액 가중평균 수익율 (회수료)
E11: 가인베스트먼트 | F11: 000000-0000000 | G11: 000-00-00000 | H11: 홍길동 | I11: 독립 PEF 운용사 | J11: 555555 | K11: 도입 | L11: 36892 | M11: 40178 | N11: 40207 | O11: 40266 | P11: 12345 | Q11: 서울 영등포구 여의도동 | R11: 16-3 한국산업은행본점 | S11: 2000 | T11: 8 | U11: 5 | V11: YES | W11: YES | X11: YES | Y11: YES | Z11: YES | AA11: 0.3 | AB11: 홍길동 | AC11: 관리부 | AD11: 부장 | AE11: 000-0000-0000 | AF11: 000-0000-0000 | AG11: 000-0000-0000 | AI11: =SUMPRODUCT( (OFFSET(제안사_펀드현황,0,3,ROWS(제안사_펀드현황),1)="청산료")*1 ) -> 2 | AJ11: =SUMPRODUCT( (OFFSET(제안사_펀드현황,0,3,ROWS(제안사_펀드현황),1)="청산료")*1, OFFSET(제안사_펀드현황,0,10,ROWS(제안사_펀드현황),1) ) -> 6000 | AK11: =SUMPRODUCT( (OFFSET(제안사_펀드현황,0,3,ROWS(제안사_펀드현황),1)="청산료")*1, OFFSET(제안사_펀드현황,0,11,ROWS(제안사_펀드현황),1) ) -> 6000 | AL11: =SUMPRODUCT( (OFFSET(제안사_펀드현황,0,3,ROWS(제안사_펀드현황),1)="청산료")*1, OFFSET(제안사_펀드현황,0,22,ROWS(제안사_펀드현황),1) ) -> 0 | AM11: =SUMPRODUCT( (OFFSET(제안사_펀드현황,0,3,ROWS(제안사_펀드현황),1)="청산료")*1, OFFSET(제안사_펀드현황,0,23,ROWS(제안사_펀드현황),1) ) -> 0 | AN11: =SUMPRODUCT( (OFFSET(제안사_펀드현황,0,3,ROWS(제안사_펀드현황),1)="청산료")*1, OFFSET(제안사_펀드현황,0,26,ROWS(제안사_펀드현황),1) ) -> 21600 | AO11: =SUMPRODUCT( (OFFSET(제안사_펀드현황,0,3,ROWS(제안사_펀드현황),1)="청산료")*1, OFFSET(제안사_펀드현황,0,27,ROWS(제안사_펀드현황),1) ) -> 0 | AP11: =SUMPRODUCT( (OFFSET(제안사_펀드현황,0,3,ROWS(제안사_펀드현황),1)="청산료")*1, OFFSET(제안사_펀드현황,0,11,ROWS(제안사_펀드현황),1), OFFSET(제안사_펀드현황,0,19,ROWS(제안사_펀드현황),1) )/AK11 -> 0.28583842 | AQ11: =(AN11+AO11)/AK11 -> 3.6 | AR11: {=SUMPRODUCT( (OFFSET(제안사_펀드현황,0,3,ROWS(제안사_펀드현황),1)<>"청산료")*1, (OFFSET(제안사_펀드현황,0,3,ROWS(제안사_펀드현황),1)<>"")*1 )} -> 2 | AS11: =SUMPRODUCT( (OFFSET(제안사_펀드현황,0,3,ROWS(제안사_펀드현황),1)<>"청산료")*1, (OFFSET(제안사_펀드현황,0,3,ROWS(제안사_펀드현황),1)<>"")*1, OFFSET(제안사_펀드현황,0,10,ROWS(제안사_펀드현황),1) ) -> 6000 | AT11: =SUMPRODUCT( (OFFSET(제안사_펀드현황,0,3,ROWS(제안사_펀드현황),1)<>"청산료")*1, (OFFSET(제안사_펀드현황,0,3,ROWS(제안사_펀드현황),1)<>"")*1, OFFSET(제안사_펀드현황,0,11,ROWS(제안사_펀드현황),1) ) -> 5500 | AU11: =SUMPRODUCT( (OFFSET(제안사_펀드현황,0,3,ROWS(제안사_펀드현황),1)<>"청산료")*1, (OFFSET(제안사_펀드현황,0,3,ROWS(제안사_펀드현황),1)<>"")*1, OFFSET(제안사_펀드현황,0,22,ROWS(제안사_펀드현황),1) ) -> 30000 | AV11: =SUMPRODUCT( (OFFSET(제안사_펀드현황,0,3,ROWS(제안사_펀드현황),1)<>"청산료")*1, (OFFSET(제안사_펀드현황,0,3,ROWS(제안사_펀드현황),1)<>"")*1, OFFSET(제안사_펀드현황,0,23,ROWS(제안사_펀드현황),1) ) -> 31700 | AW11: =SUMPRODUCT( (OFFSET(제안사_펀드현황,0,3,ROWS(제안사_펀드현황),1)<>"청산료")*1, (OFFSET(제안사_펀드현황,0,3,ROWS(제안사_펀드현황),1)<>"")*1, OFFSET(제안사_펀드현황,0,26,ROWS(제안사_펀드현황),1) ) -> 21290 | AX11: =SUMPRODUCT( (OFFSET(제안사_펀드현황,0,3,ROWS(제안사_펀드현황),1)<>"청산료")*1, (OFFSET(제안사_펀드현황,0,3,ROWS(제안사_펀드현황),1)<>"")*1, OFFSET(제안사_펀드현황,0,27,ROWS(제안사_펀드현황),1) ) -> 0 | AY11: =SUMPRODUCT( (OFFSET(제안사_펀드현황,0,3,ROWS(제안사_펀드현황),1)<>"청산료")*1, (OFFSET(제안사_펀드현황,0,3,ROWS(제안사_펀드현황),1)<>"")*1, OFFSET(제안사_펀드현황,0,33,ROWS(제안사_펀드현황),1) ) -> 3500 | AZ11: =SUMPRODUCT( (OFFSET(제안사_펀드현황,0,2,ROWS(제안사_펀드현황),1)<>"청산료")*1, (OFFSET(제안사_펀드현황,0,2,ROWS(제안사_펀드현황),1)<>"")*1, OFFSET(제안사_펀드현황,0,34,ROWS(제안사_펀드현황),1) ) -> 0 | BA11: =SUMPRODUCT( (OFFSET(제안사_투자현황,0,0,ROWS(제안사_투자현황),1)="PE펀드계정")*1 ) -> 8 | BB11: =SUMPRODUCT( (OFFSET(제안사_투자현황,0,0,ROWS(제안사_투자현황),1)="PE펀드계정")*1, (OFFSET(제안사_투자현황,0,10,ROWS(제안사_투자현황),1)="회수료")*1 ) -> 6 | BC11: =SUMPRODUCT( (OFFSET(제안사_투자현황,0,0,ROWS(제안사_투자현황),1)="PE펀드계정")*1, OFFSET(제안사_투자현황,0,9,ROWS(제안사_투자현황),1) ) -> 25000 | BD11: =SUMPRODUCT( (OFFSET(제안사_투자현황,0,0,ROWS(제안사_투자현황),1)="PE펀드계정")*1, OFFSET(제안사_투자현황,0,14,ROWS(제안사_투자현황),1) ) -> 25700 | BE11: =SUMPRODUCT( (OFFSET(제안사_투자현황,0,0,ROWS(제안사_투자현황),1)="PE펀드계정")*1, OFFSET(제안사_투자현황,0,21,ROWS(제안사_투자현황),1) ) -> 5000 | BF11: =SUMPRODUCT( (OFFSET(제안사_투자현황,0,0,ROWS(제안사_투자현황),1)="PE펀드계정")*1, OFFSET(제안사_투자현황,0,22,ROWS(제안사_투자현황),1) ) -> 3500 | BG11: =IF(BC11=0,"N/A", SUMPRODUCT( (OFFSET(제안사_투자현황,0,0,ROWS(제안사_투자현황),1)="PE펀드계정")*1, OFFSET(제안사_투자현황,0,9,ROWS(제안사_투자현황),1), OFFSET(제안사_투자현황,0,11,ROWS(제안사_투자현황),1) ) / BC11) -> 0.0436 | BH11: =IF( SUMPRODUCT( (OFFSET(제안사_투자현황,0,0,ROWS(제안사_투자현황),1)="PE펀드계정")*1, OFFSET(제안사_투자현황,0,9,ROWS(제안사_투자현황),1), (OFFSET(제안사_투자현황,0,10,ROWS(제안사_투자현황),1)="회수료")*1) = 0, "N/A", SUMPRODUCT( (OFFSET(제안사_투자현황,0,0,ROWS(제안사_투자현황),1)="PE펀드계정")*1, OFFSET(제안사_투자현황,0,9,ROWS(제안사_투자현황),1), (OFFSET(제안사_투자현황,0,10,ROWS(제안사_투자현황),1)="회수료")*1, OFFSET(제안사_투자현황,0,11,ROWS(제안사_투자현황),1) ) / SUMPRODUCT( (OFFSET(제안사_투자현황,0,0,ROWS(제안사_투자현황),1)="PE펀드계정")*1, OFFSET(제안사_투자현황,0,9,ROWS(제안사_투자현황),1), (OFFSET(제안사_투자현황,0,10,ROWS(제안사_투자현황),1)="회수료")*1) ) -> 0.0245 | BI11: =SUMPRODUCT( (OFFSET(제안사_투자현황,0,0,ROWS(제안사_투자현황),1)="VC펀드계정")*1 ) -> 2 | BJ11: =SUMPRODUCT( (OFFSET(제안사_투자현황,0,0,ROWS(제안사_투자현황),1)="VC펀드계정")*1, (OFFSET(제안사_투자현황,0,10,ROWS(제안사_투자현황),1)="회수료")*1 ) -> 1 | BK11: =SUMPRODUCT( (OFFSET(제안사_투자현황,0,0,ROWS(제안사_투자현황),1)="VC펀드계정")*1, OFFSET(제안사_투자현황,0,9,ROWS(제안사_투자현황),1) ) -> 5000 | BL11: =SUMPRODUCT( (OFFSET(제안사_투자현황,0,0,ROWS(제안사_투자현황),1)="VC펀드계정")*1, OFFSET(제안사_투자현황,0,14,ROWS(제안사_투자현황),1) ) -> 6000 | BM11: =SUMPRODUCT( (OFFSET(제안사_투자현황,0,0,ROWS(제안사_투자현황),1)="VC펀드계정")*1, OFFSET(제안사_투자현황,0,21,ROWS(제안사_투자현황),1) ) -> 0 | BN11: =SUMPRODUCT( (OFFSET(제안사_투자현황,0,0,ROWS(제안사_투자현황),1)="VC펀드계정")*1, OFFSET(제안사_투자현황,0,22,ROWS(제안사_투자현황),1) ) -> 0 | BO11: =IF(BK11=0,"N/A", SUMPRODUCT( (OFFSET(제안사_투자현황,0,0,ROWS(제안사_투자현황),1)="VC펀드계정")*1, OFFSET(제안사_투자현황,0,9,ROWS(제안사_투자현황),1), OFFSET(제안사_투자현황,0,11,ROWS(제안사_투자현황),1) ) / BK11) -> 0.024 | BP11: {=IF( SUMPRODUCT( (OFFSET(제안사_투자현황,0,0,ROWS(제안사_투자현황),1)="VC펀드계정")*1, OFFSET(제안사_투자현황,0,9,ROWS(제안사_투자현황),1), (OFFSET(제안사_투자현황,0,10,ROWS(제안사_투자현황),1)="회수료")*1) = 0, "N/A", SUMPRODUCT( (OFFSET(제안사_투자현황,0,0,ROWS(제안사_투자현황),1)="VC펀드계정")*1, OFFSET(제안사_투자현황,0,9,ROWS(제안사_투자현황),1), (OFFSET(제안사_투자현황,0,10,ROWS(제안사_투자현황),1)="회수료")*1, OFFSET(제안사_투자현황,0,11,ROWS(제안사_투자현황),1) ) / SUMPRODUCT( (OFFSET(제안사_투자현황,0,0,ROWS(제안사_투자현황),1)="VC펀드계정")*1, OFFSET(제안사_투자현황,0,9,ROWS(제안사_투자현황),1), (OFFSET(제안사_투자현황,0,10,ROWS(제안사_투자현황),1)="회수료")*1) )} -> 0.03 | BQ11: =SUMPRODUCT( (OFFSET(제안사_투자현황,0,0,ROWS(제안사_투자현황),1)="기타 주식등 투자펀드계정")*1 ) -> 0 | BR11: =SUMPRODUCT( (OFFSET(제안사_투자현황,0,0,ROWS(제안사_투자현황),1)="기타 주식등 투자펀드계정")*1, (OFFSET(제안사_투자현황,0,10,ROWS(제안사_투자현황),1)="회수료")*1 ) -> 0 | BS11: =SUMPRODUCT( (OFFSET(제안사_투자현황,0,0,ROWS(제안사_투자현황),1)="기타 주식등 투자펀드계정")*1, OFFSET(제안사_투자현황,0,9,ROWS(제안사_투자현황),1) ) -> 0 | BT11: =SUMPRODUCT( (OFFSET(제안사_투자현황,0,0,ROWS(제안사_투자현황),1)="기타 주식등 투자펀드계정")*1, OFFSET(제안사_투자현황,0,14,ROWS(제안사_투자현황),1) ) -> 0 | BU11: =SUMPRODUCT( (OFFSET(제안사_투자현황,0,0,ROWS(제안사_투자현황),1)="기타 주식등 투자펀드계정")*1, OFFSET(제안사_투자현황,0,21,ROWS(제안사_투자현황),1) ) -> 0 | BV11: =SUMPRODUCT( (OFFSET(제안사_투자현황,0,0,ROWS(제안사_투자현황),1)="기타 주식등 투자펀드계정")*1, OFFSET(제안사_투자현황,0,22,ROWS(제안사_투자현황),1) ) -> 0 | BW11: =IF(BS11=0,"N/A", SUMPRODUCT( (OFFSET(제안사_투자현황,0,0,ROWS(제안사_투자현황),1)="기타 주식등 투자펀드계정")*1, OFFSET(제안사_투자현황,0,9,ROWS(제안사_투자현황),1), OFFSET(제안사_투자현황,0,11,ROWS(제안사_투자현황),1) ) / BS11) -> N/A | BX11: =IF( SUMPRODUCT( (OFFSET(제안사_투자현황,0,0,ROWS(제안사_투자현황),1)="기타 주식등 투자펀드계정")*1, OFFSET(제안사_투자현황,0,9,ROWS(제안사_투자현황),1), (OFFSET(제안사_투자현황,0,10,ROWS(제안사_투자현황),1)="회수료")*1) = 0, "N/A", SUMPRODUCT( (OFFSET(제안사_투자현황,0,0,ROWS(제안사_투자현황),1)="기타 주식등 투자펀드계정")*1, OFFSET(제안사_투자현황,0,9,ROWS(제안사_투자현황),1), (OFFSET(제안사_투자현황,0,10,ROWS(제안사_투자현황),1)="회수료")*1, OFFSET(제안사_투자현황,0,11,ROWS(제안사_투자현황),1) ) / SUMPRODUCT( (OFFSET(제안사_투자현황,0,0,ROWS(제안사_투자현황),1)="기타 주식등 투자펀드계정")*1, OFFSET(제안사_투자현황,0,9,ROWS(제안사_투자현황),1), (OFFSET(제안사_투자현황,0,10,ROWS(제안사_투자현황),1)="회수료")*1) ) -> N/A

Sheet 2.2 제안사 재무현황
E4: (가)결산일자 | F4: 총자산 | G4: 유동자산 | H4: 총부채 | I4: 유동부채 | J4: 자기자본 | K4: 자본금 | L4: 영업수익 | M4: 영업비용 | N4: 당기순이익 | O4: 유동비율 | P4: 부채비율 | Q4: 자본충실률 | R4: 영업수지율 | S4: 자기자본순이익률 | T4: (단위: 백만원)
E11: 46022 | F11: 10000 | G11: 9000 | H11: 3000 | I11: 1000 | J11: 7000 | K11: 4000 | L11: 2000 | M11: 1500 | N11: 200 | O11: =G11/I11 -> 9 | P11: =H11/J11 -> 0.42857143 | Q11: =J11/K11 -> 1.75 | R11: =L11/M11 -> 1.3333333 | S11: =N11/J11 -> 0.028571429
E12: 45657 | F12: 8000 | G12: 7000 | H12: 3000 | I12: 1000 | J12: 1000 | K12: 500 | L12: 600 | M12: 500 | N12: -100 | O12: =G12/I12 -> 7 | P12: =H12/J12 -> 3 | Q12: =J12/K12 -> 2 | R12: =L12/M12 -> 1.2 | S12: =N12/J12 -> -0.1
E13: 45291 | F13: 8000 | G13: 7000 | H13: 3000 | I13: 4000 | J13: 1000 | K13: 500 | L13: 3000 | M13: 2500 | N13: 500 | O13: =G13/I13 -> 1.75 | P13: =H13/J13 -> 3 | Q13: =J13/K13 -> 2 | R13: =L13/M13 -> 1.2 | S13: =N13/J13 -> 0.5

Sheet 2.3 제안사 펀드현황
E4: 펀드명칭 | H4: 펀드개요 | O4: 펀드규모 | Q4: 펀드 존속기간 | U4: 보수 | X4: 펀드수익율 | Z4: 투자 및 회수 | AC4: 미회수투자자산 | AE4: 분배 및 비용 | AJ4: 예금 등 투자자산 이외 자산총액 | AK4: 미지급등 부채총액 | AL4: 펀드 순자산 | AM4: 추가투자 예상금액 | AN4: 핵심운용인력1 (최초규약상) | AR4: 핵심운용인력2 (최초규약상) | AV4: 핵심운용인력3 (최초규약상) | AZ4: 최초규약상 핵심 운용인력 수 | BA4: 핵심운용인력1(청산시 or 작성기준일 상) | BE4: 핵심운용인력2(청산시 or 작성기준일 상) | BI4: 핵심운용인력3(청산시 or 작성기준일 상) | BM4: 핵심인력변경횟수 | BN4: 운용사수 | BO4: 제안사출자 | BR4: 공동운용사1출자 | BU4: 공동운용사2출자 | BX4: 투자자1 출자 | BZ4: 투자자2 출자 | CB4: 투자자3 출자 | CD4: 투자자4 출자 | CF4: 투자자5 출자
E5: 펀드명 | F5: 펀드구분 | G5: 펀드 사업자번호(고유번호) | H5: 펀드 상태 | I5: 펀드법적유형 | J5: 펀드유형 | K5: 주목적투자분야 | L5: 투자기업의 주된 법인유형 | M5: 주된 투자유형 | N5: KB금융그룹 위탁펀드 여부 | O5: 약정 총액 | P5: 납입 총액 | Q5: 결성(예정)일 | R5: 투자기간 종료(예정)일 | S5: 해산(예정)일 (청산펀드의 경우 청산일) | T5: 기간(연) | U5: 기준 수익률 | V5: 성과보수 | W5: 관리보수 | X5: IRR | Y5: Multiple | Z5: 투자건수 | AA5: 투자 총액 | AB5: 회수 총액 | AC5: 투자 원금 총액 | AD5: 가치 총액 | AE5: 출자자앞 분배총액 | AF5: 성과보수지급총액 | AG5: 성과보수 운용인력 분배총액 | AH5: 관리보수 지급총액 | AI5: 비용 지급총액 | AN5: 성명 | AO5: 시작일 | AP5: 종료일 | AQ5: 재직여부 | AR5: 성명 | AS5: 시작일 | AT5: 종료일 | AU5: 재직여부 | AV5: 성명 | AW5: 시작일 | AX5: 종료일 | AY5: 재직여부 | BA5: 성명 | BB5: 시작일 | BC5: 종료일 | BD5: 재직여부 | BE5: 성명 | BF5: 시작일 | BG5: 종료일 | BH5: 재직여부 | BI5: 성명 | BJ5: 시작일 | BK5: 종료일 | BL5: 재직여부 | BO5: 제안사명 | BP5: 약정액 | BQ5: 우선손실 충당액 | BR5: 운용사명 | BS5: 약정액 | BT5: 우선손실 충당액 | BU5: 운용사명 | BV5: 약정액 | BW5: 우선손실 충당액 | BX5: 출자자명 | BY5: 약정액 | BZ5: 출자자명 | CA5: 약정액 | CB5: 출자자명 | CC5: 약정액 | CD5: 출자자명 | CE5: 약정액 | CF5: 출자자명 | CG5: 약정액
E11: 펀드1호 | F11: PE펀드 | G11: 123-45-67899 | H11: 결성예정 | I11: PE-(가) | J11: 프로젝트펀드 | K11: 일반 중소기업 | L11: 국내설립법인 | M11: 보통주 | N11: NO | O11: 3000 | P11: 3000 | Q11: 39814 | R11: 41263 | S11: 42724 | T11: =IF(ISBLANK(Q11),"",DATEDIF(Q11,S11,"d")/365) -> 7.9726027 | U11: 0.1 | V11: 초과수익의 20% | W11: 투자잔액의 3.0% | X11: =IF(ISBLANK($E11), "", IF( ISERROR( XIRR( OFFSET(펀드_거래,MATCH($E11,OFFSET(펀드_거래,0,0,ROWS(펀드_거래),1),0)-1,2,COUNTIF(펀드_거래,$E11),1), OFFSET(펀드_거래,MATCH($E11,OFFSET(펀드_거래,0,0,ROWS(펀드_거래),1),0)-1,3,COUNTIF(펀드_거래,$E11),1) ) ), "N/A", XIRR( OFFSET(펀드_거래,MATCH($E11,OFFSET(펀드_거래,0,0,ROWS(펀드_거래),1),0)-1,2,COUNTIF(펀드_거래,$E11),1), OFFSET(펀드_거래,MATCH($E11,OFFSET(펀드_거래,0,0,ROWS(펀드_거래),1),0)-1,3,COUNTIF(펀드_거래,$E11),1), IF(SUM(OFFSET(펀드_거래,MATCH($E11,OFFSET(펀드_거래,0,0,ROWS(펀드_거래),1),0)-1,2,COUNTIF(펀드_거래,$E11),1))>0, 1%, -1%) ) ) ) -> 0.32997315 | Y11: =IF( ISBLANK($E11), "", IF(ISNUMBER(P11), (AD11+AE11+AF11+AJ11-AK11)/P11, "N/A") ) -> 7.0666667 | Z11: {=IF( ISBLANK($E11), "", SUMPRODUCT( (OFFSET(제안사_투자현황,0,1,ROWS(제안사_투자현황),1)=$E11)*1, ISTEXT(OFFSET(제안사_투자현황,0,4,ROWS(제안사_투자현황),1))*1 ) )} -> 8 | AA11: {=IF( ISBLANK($E11), "", SUMPRODUCT( (OFFSET(제안사_투자현황,0,1,ROWS(제안사_투자현황),1)=$E11)*1, OFFSET(제안사_투자현황,0,9,ROWS(제안사_투자현황),1)) )} -> 25000 | AB11: {=IF( ISBLANK($E11), "", SUMPRODUCT( (OFFSET(제안사_투자현황,0,1,ROWS(제안사_투자현황),1)=$E11)*1, OFFSET(제안사_투자현황,0,14,ROWS(제안사_투자현황),1)) )} -> 25700 | AC11: {=IF( ISBLANK($E11), "", SUMPRODUCT( (OFFSET(제안사_투자현황,0,1,ROWS(제안사_투자현황),1)=$E11)*1, OFFSET(제안사_투자현황,0,21,ROWS(제안사_투자현황),1)) )} -> 5000 | AD11: {=IF( ISBLANK($E11), "", SUMPRODUCT( (OFFSET(제안사_투자현황,0,1,ROWS(제안사_투자현황),1)=$E11)*1, OFFSET(제안사_투자현황,0,22,ROWS(제안사_투자현황),1)) )} -> 3500 | AE11: {=IF( ISBLANK($E11), "", SUMPRODUCT( (OFFSET(펀드_거래,0,0,ROWS(펀드_거래),1)=$E11)*1, (OFFSET(펀드_거래,0,1,ROWS(펀드_거래),1)="현금분배")*1, OFFSET(펀드_거래,0,2,ROWS(펀드_거래),1)/1000000 ) + SUMPRODUCT( (OFFSET(펀드_거래,0,0,ROWS(펀드_거래),1)=$E11)*1, (OFFSET(펀드_거래,0,1,ROWS(펀드_거래),1)="현물분배")*1, OFFSET(펀드_거래,0,2,ROWS(펀드_거래),1)/1000000 ) )} -> 17700 | AF11: {=IF( ISBLANK($E11), "", SUMPRODUCT( (OFFSET(펀드_거래,0,0,ROWS(펀드_거래),1)=$E11)*1, (OFFSET(펀드_거래,0,1,ROWS(펀드_거래),1)="성과보수")*1, OFFSET(펀드_거래,0,2,ROWS(펀드_거래),1)/1000000) )} -> 0 | AL11: =IF( ISERROR(AD11+AJ11-AK11), "", AD11+AJ11-AK11 ) -> 3500 | BB11: 36892 | BC11: 39814 | BM11: {=IF(ISBLANK($E11),"",SUMPRODUCT((OFFSET(핵심운용인력_변경내역,0,0,ROWS(핵심운용인력_변경내역),1)=$E11)*1,(OFFSET(핵심운용인력_변경내역,0,1,ROWS(핵심운용인력_변경내역),1)="유출")*1))} -> 3 | BP11: 500 | BQ11: 500 | BS11: 500 | BT11: 500 | BV11: 500 | BW11: 500
A12: 노앤파트너스㈜ | E12: 펀드2호 | F12: VC펀드 | G12: 000-00-00000 | H12: 운용중 | I12: VC-(나) | J12: 블라인드펀드 | K12: 일반 중소기업 | L12: 해외출자법인 | M12: 우선주(RCPS포함) | N12: NO | O12: 3000 | P12: 2500 | Q12: 40168 | R12: 41628 | S12: 43089 | T12: =IF(ISBLANK(Q12),"",DATEDIF(Q12,S12,"d")/365) -> 8.0027397 | U12: 0.1 | V12: 초과수익의 20% | W12: 투자잔액의 3.0% | X12: =IF(ISBLANK($E12), "", IF( ISERROR( XIRR( OFFSET(펀드_거래,MATCH($E12,OFFSET(펀드_거래,0,0,ROWS(펀드_거래),1),0)-1,2,COUNTIF(펀드_거래,$E12),1), OFFSET(펀드_거래,MATCH($E12,OFFSET(펀드_거래,0,0,ROWS(펀드_거래),1),0)-1,3,COUNTIF(펀드_거래,$E12),1) ) ), "N/A", XIRR( OFFSET(펀드_거래,MATCH($E12,OFFSET(펀드_거래,0,0,ROWS(펀드_거래),1),0)-1,2,COUNTIF(펀드_거래,$E12),1), OFFSET(펀드_거래,MATCH($E12,OFFSET(펀드_거래,0,0,ROWS(펀드_거래),1),0)-1,3,COUNTIF(펀드_거래,$E12),1), IF(SUM(OFFSET(펀드_거래,MATCH($E12,OFFSET(펀드_거래,0,0,ROWS(펀드_거래),1),0)-1,2,COUNTIF(펀드_거래,$E12),1))>0, 1%, -1%) ) ) ) -> 0.034640803 | Y12: =IF( ISBLANK($E12), "", IF(ISNUMBER(P12), (AD12+AE12+AF12+AJ12-AK12)/P12, "N/A") ) -> 1.436 | Z12: {=IF( ISBLANK($E12), "", SUMPRODUCT( (OFFSET(제안사_투자현황,0,1,ROWS(제안사_투자현황),1)=$E12)*1, ISTEXT(OFFSET(제안사_투자현황,0,4,ROWS(제안사_투자현황),1))*1 ) )} -> 2 | AA12: {=IF( ISBLANK($E12), "", SUMPRODUCT( (OFFSET(제안사_투자현황,0,1,ROWS(제안사_투자현황),1)=$E12)*1, OFFSET(제안사_투자현황,0,9,ROWS(제안사_투자현황),1)) )} -> 5000 | AB12: {=IF( ISBLANK($E12), "", SUMPRODUCT( (OFFSET(제안사_투자현황,0,1,ROWS(제안사_투자현황),1)=$E12)*1, OFFSET(제안사_투자현황,0,14,ROWS(제안사_투자현황),1)) )} -> 6000 | AC12: {=IF( ISBLANK($E12), "", SUMPRODUCT( (OFFSET(제안사_투자현황,0,1,ROWS(제안사_투자현황),1)=$E12)*1, OFFSET(제안사_투자현황,0,21,ROWS(제안사_투자현황),1)) )} -> 0 | AD12: {=IF( ISBLANK($E12), "", SUMPRODUCT( (OFFSET(제안사_투자현황,0,1,ROWS(제안사_투자현황),1)=$E12)*1, OFFSET(제안사_투자현황,0,22,ROWS(제안사_투자현황),1)) )} -> 0 | AE12: {=IF( ISBLANK($E12), "", SUMPRODUCT( (OFFSET(펀드_거래,0,0,ROWS(펀드_거래),1)=$E12)*1, (OFFSET(펀드_거래,0,1,ROWS(펀드_거래),1)="현금분배")*1, OFFSET(펀드_거래,0,2,ROWS(펀드_거래),1)/1000000 ) + SUMPRODUCT( (OFFSET(펀드_거래,0,0,ROWS(펀드_거래),1)=$E12)*1, (OFFSET(펀드_거래,0,1,ROWS(펀드_거래),1)="현물분배")*1, OFFSET(펀드_거래,0,2,ROWS(펀드_거래),1)/1000000 ) )} -> 3590 | AF12: {=IF( ISBLANK($E12), "", SUMPRODUCT( (OFFSET(펀드_거래,0,0,ROWS(펀드_거래),1)=$E12)*1, (OFFSET(펀드_거래,0,1,ROWS(펀드_거래),1)="성과보수")*1, OFFSET(펀드_거래,0,2,ROWS(펀드_거래),1)/1000000) )} -> 0 | AL12: =IF( ISERROR(AD12+AJ12-AK12), "", AD12+AJ12-AK12 ) -> 0 | BB12: 36892 | BC12: 39814 | BM12: {=IF(ISBLANK($E12),"",SUMPRODUCT((OFFSET(핵심운용인력_변경내역,0,0,ROWS(핵심운용인력_변경내역),1)=$E12)*1,(OFFSET(핵심운용인력_변경내역,0,1,ROWS(핵심운용인력_변경내역),1)="유출")*1))} -> 0 | BP12: 500 | BQ12: 500 | BS12: 500 | BT12: 500 | BV12: 500 | BW12: 500
E13: 펀드3호 | F13: 기타 주식등 투자펀드 | G13: 000-00-00000 | H13: 청산료 | I13: 기타-(가) | J13: 블라인드펀드 | K13: 일반 중소기업 | L13: 외국법인 | M13: BW | N13: YES | O13: 3000 | P13: 3000 | Q13: 40168 | R13: 41628 | S13: 43089 | T13: =IF(ISBLANK(Q13),"",DATEDIF(Q13,S13,"d")/365) -> 8.0027397 | U13: 0.1 | V13: 초과수익의 20% | W13: 투자잔액의 3.0% | X13: =IF(ISBLANK($E13), "", IF( ISERROR( XIRR( OFFSET(펀드_거래,MATCH($E13,OFFSET(펀드_거래,0,0,ROWS(펀드_거래),1),0)-1,2,COUNTIF(펀드_거래,$E13),1), OFFSET(펀드_거래,MATCH($E13,OFFSET(펀드_거래,0,0,ROWS(펀드_거래),1),0)-1,3,COUNTIF(펀드_거래,$E13),1) ) ), "N/A", XIRR( OFFSET(펀드_거래,MATCH($E13,OFFSET(펀드_거래,0,0,ROWS(펀드_거래),1),0)-1,2,COUNTIF(펀드_거래,$E13),1), OFFSET(펀드_거래,MATCH($E13,OFFSET(펀드_거래,0,0,ROWS(펀드_거래),1),0)-1,3,COUNTIF(펀드_거래,$E13),1), IF(SUM(OFFSET(펀드_거래,MATCH($E13,OFFSET(펀드_거래,0,0,ROWS(펀드_거래),1),0)-1,2,COUNTIF(펀드_거래,$E13),1))>0, 1%, -1%) ) ) ) -> 0.13875515 | Y13: =IF( ISBLANK($E13), "", IF(ISNUMBER(P13), (AD13+AE13+AF13+AJ13-AK13)/P13, "N/A") ) -> 5.2 | Z13: {=IF( ISBLANK($E13), "", SUMPRODUCT( (OFFSET(제안사_투자현황,0,1,ROWS(제안사_투자현황),1)=$E13)*1, ISTEXT(OFFSET(제안사_투자현황,0,4,ROWS(제안사_투자현황),1))*1 ) )} -> 0 | AA13: {=IF( ISBLANK($E13), "", SUMPRODUCT( (OFFSET(제안사_투자현황,0,1,ROWS(제안사_투자현황),1)=$E13)*1, OFFSET(제안사_투자현황,0,9,ROWS(제안사_투자현황),1)) )} -> 0 | AB13: {=IF( ISBLANK($E13), "", SUMPRODUCT( (OFFSET(제안사_투자현황,0,1,ROWS(제안사_투자현황),1)=$E13)*1, OFFSET(제안사_투자현황,0,14,ROWS(제안사_투자현황),1)) )} -> 0 | AC13: {=IF( ISBLANK($E13), "", SUMPRODUCT( (OFFSET(제안사_투자현황,0,1,ROWS(제안사_투자현황),1)=$E13)*1, OFFSET(제안사_투자현황,0,21,ROWS(제안사_투자현황),1)) )} -> 0 | AD13: {=IF( ISBLANK($E13), "", SUMPRODUCT( (OFFSET(제안사_투자현황,0,1,ROWS(제안사_투자현황),1)=$E13)*1, OFFSET(제안사_투자현황,0,22,ROWS(제안사_투자현황),1)) )} -> 0 | AE13: {=IF( ISBLANK($E13), "", SUMPRODUCT( (OFFSET(펀드_거래,0,0,ROWS(펀드_거래),1)=$E13)*1, (OFFSET(펀드_거래,0,1,ROWS(펀드_거래),1)="현금분배")*1, OFFSET(펀드_거래,0,2,ROWS(펀드_거래),1)/1000000 ) + SUMPRODUCT( (OFFSET(펀드_거래,0,0,ROWS(펀드_거래),1)=$E13)*1, (OFFSET(펀드_거래,0,1,ROWS(펀드_거래),1)="현물분배")*1, OFFSET(펀드_거래,0,2,ROWS(펀드_거래),1)/1000000 ) )} -> 15600 | AF13: {=IF( ISBLANK($E13), "", SUMPRODUCT( (OFFSET(펀드_거래,0,0,ROWS(펀드_거래),1)=$E13)*1, (OFFSET(펀드_거래,0,1,ROWS(펀드_거래),1)="성과보수")*1, OFFSET(펀드_거래,0,2,ROWS(펀드_거래),1)/1000000) )} -> 0 | AL13: =IF( ISERROR(AD13+AJ13-AK13), "", AD13+AJ13-AK13 ) -> 0 | BB13: 36892 | BC13: 39814 | BM13: {=IF(ISBLANK($E13),"",SUMPRODUCT((OFFSET(핵심운용인력_변경내역,0,0,ROWS(핵심운용인력_변경내역),1)=$E13)*1,(OFFSET(핵심운용인력_변경내역,0,1,ROWS(핵심운용인력_변경내역),1)="유출")*1))} -> 1 | BP13: 500 | BQ13: 500 | BS13: 500 | BT13: 500 | BV13: 500 | BW13: 500
E14: 펀드4호 | F14: 기타 주식등 투자펀드 | G14: 000-00-00000 | H14: 청산료 | I14: 기타-(라) | J14: 블라인드펀드 | K14: 일반 중소기업 | L14: 국내설립법인 | M14: 보통주 | N14: NO | O14: 3000 | P14: 3000 | Q14: 40168 | R14: 41628 | S14: 43089 | T14: =IF(ISBLANK(Q14),"",DATEDIF(Q14,S14,"d")/365) -> 8.0027397 | U14: 0.1 | V14: 초과수익의 20% | W14: 투자잔액의 3.0% | X14: =IF(ISBLANK($E14), "", IF( ISERROR( XIRR( OFFSET(펀드_거래,MATCH($E14,OFFSET(펀드_거래,0,0,ROWS(펀드_거래),1),0)-1,2,COUNTIF(펀드_거래,$E14),1), OFFSET(펀드_거래,MATCH($E14,OFFSET(펀드_거래,0,0,ROWS(펀드_거래),1),0)-1,3,COUNTIF(펀드_거래,$E14),1) ) ), "N/A", XIRR( OFFSET(펀드_거래,MATCH($E14,OFFSET(펀드_거래,0,0,ROWS(펀드_거래),1),0)-1,2,COUNTIF(펀드_거래,$E14),1), OFFSET(펀드_거래,MATCH($E14,OFFSET(펀드_거래,0,0,ROWS(펀드_거래),1),0)-1,3,COUNTIF(펀드_거래,$E14),1), IF(SUM(OFFSET(펀드_거래,MATCH($E14,OFFSET(펀드_거래,0,0,ROWS(펀드_거래),1),0)-1,2,COUNTIF(펀드_거래,$E14),1))>0, 1%, -1%) ) ) ) -> 0.4329217 | Y14: =IF( ISBLANK($E14), "", IF(ISNUMBER(P14), (AD14+AE14+AF14+AJ14-AK14)/P14, "N/A") ) -> 2 | Z14: {=IF( ISBLANK($E14), "", SUMPRODUCT( (OFFSET(제안사_투자현황,0,1,ROWS(제안사_투자현황),1)=$E14)*1, ISTEXT(OFFSET(제안사_투자현황,0,4,ROWS(제안사_투자현황),1))*1 ) )} -> 0 | AA14: {=IF( ISBLANK($E14), "", SUMPRODUCT( (OFFSET(제안사_투자현황,0,1,ROWS(제안사_투자현황),1)=$E14)*1, OFFSET(제안사_투자현황,0,9,ROWS(제안사_투자현황),1)) )} -> 0 | AB14: {=IF( ISBLANK($E14), "", SUMPRODUCT( (OFFSET(제안사_투자현황,0,1,ROWS(제안사_투자현황),1)=$E14)*1, OFFSET(제안사_투자현황,0,14,ROWS(제안사_투자현황),1)) )} -> 0 | AC14: {=IF( ISBLANK($E14), "", SUMPRODUCT( (OFFSET(제안사_투자현황,0,1,ROWS(제안사_투자현황),1)=$E14)*1, OFFSET(제안사_투자현황,0,21,ROWS(제안사_투자현황),1)) )} -> 0 | AD14: {=IF( ISBLANK($E14), "", SUMPRODUCT( (OFFSET(제안사_투자현황,0,1,ROWS(제안사_투자현황),1)=$E14)*1, OFFSET(제안사_투자현황,0,22,ROWS(제안사_투자현황),1)) )} -> 0 | AE14: {=IF( ISBLANK($E14), "", SUMPRODUCT( (OFFSET(펀드_거래,0,0,ROWS(펀드_거래),1)=$E14)*1, (OFFSET(펀드_거래,0,1,ROWS(펀드_거래),1)="현금분배")*1, OFFSET(펀드_거래,0,2,ROWS(펀드_거래),1)/1000000 ) + SUMPRODUCT( (OFFSET(펀드_거래,0,0,ROWS(펀드_거래),1)=$E14)*1, (OFFSET(펀드_거래,0,1,ROWS(펀드_거래),1)="현물분배")*1, OFFSET(펀드_거래,0,2,ROWS(펀드_거래),1)/1000000 ) )} -> 6000 | AF14: {=IF( ISBLANK($E14), "", SUMPRODUCT( (OFFSET(펀드_거래,0,0,ROWS(펀드_거래),1)=$E14)*1, (OFFSET(펀드_거래,0,1,ROWS(펀드_거래),1)="성과보수")*1, OFFSET(펀드_거래,0,2,ROWS(펀드_거래),1)/1000000) )} -> 0 | AL14: =IF( ISERROR(AD14+AJ14-AK14), "", AD14+AJ14-AK14 ) -> 0 | BB14: 36892 | BC14: 39814 | BM14: {=IF(ISBLANK($E14),"",SUMPRODUCT((OFFSET(핵심운용인력_변경내역,0,0,ROWS(핵심운용인력_변경내역),1)=$E14)*1,(OFFSET(핵심운용인력_변경내역,0,1,ROWS(핵심운용인력_변경내역),1)="유출")*1))} -> 0 | BP14: 500 | BQ14: 500 | BS14: 500 | BT14: 500 | BV14: 500 | BW14: 500

Sheet 2.4 제안사 투자현황
R4: 회수투자자산 | W4: 부실발생기준에 의거한 회계상 감액내역 | Y4: 미회수투자자산 | AD4: 참여자정보 | AG4: 기타사항
E5: 펀드구분 | F5: 펀드명 | G5: 펀드 사업자번호 (고유번호) | H5: 펀드법적유형 | I5: 피투자기업명 | J5: 피투자기업 법인유형 | K5: 피투자기업 주요산업분야 | L5: 투자일 | M5: 투자유형 | N5: 투자금액 | O5: 회수구분 | P5: 투자 수익율 (IRR) | Q5: 동반투자자 | R5: 최종회수일 | S5: 회수총액 | T5: 투자원금 | U5: 회수방법 | V5: 투자기간 | W5: 감액 여부 | X5: 감액 금액 | Y5: 시장성 유무 | Z5: 투자원금 | AA5: 가치 | AB5: 가치산출근거 | AC5: 현재 담당자 성명 | AD5: 발굴및 투자검토 | AE5: 사후 관리 | AF5: 회수
E11: PE펀드계정 | F11: 펀드1호 | G11: =IF(ISBLANK($F11),"",VLOOKUP($F11,제안사_펀드현황,3,FALSE)) -> 123-45-67899 | H11: PE-(가) | I11: ABD㈜ | J11: 국내설립법인 | K11: 기타 | L11: 39815 | M11: 대출채권 | N11: 5000 | O11: 회수료 | P11: 0.02 | Q11: 타운용사 펀드 | R11: 40526 | S11: 4000 | T11: 1000 | U11: 코스닥 | V11: =IF(ISBLANK(R11),"",DATEDIF(L11,R11,"d")/365) -> 1.9479452 | W11: YES | X11: 2000 | Y11: NO | Z11: 2000 | AA11: 1500 | AB11: 25.3.31 가결산 금액
E12: PE펀드계정 | F12: 펀드1호 | G12: =IF(ISBLANK($F12),"",VLOOKUP($F12,제안사_펀드현황,3,FALSE)) -> 123-45-67899 | H12: PE-(가) | I12: ABC Inc. | J12: 국내설립법인 | K12: 전자/반도체 | L12: 39816 | M12: 보통주 | N12: 2000 | O12: 미회수 | S12: 0 | T12: 0 | V12: =IF(ISBLANK(R12),"",DATEDIF(L12,R12,"d")/365) | Z12: 2000 | AA12: 2000 | AB12: 24.12.31 감사보고서 금액 | AC12: 이00 | AD12: 이00 김00 | AE12: 이00 김00 | AF12: 이00 김00
E13: PE펀드계정 | F13: 펀드1호 | G13: =IF(ISBLANK($F13),"",VLOOKUP($F13,제안사_펀드현황,3,FALSE)) -> 123-45-67899 | H13: PE-(가) | I13: ABC Inc. | J13: 국내설립법인 | K13: 전자/반도체 | L13: 39817 | M13: 우선주(RCPS포함) | N13: 3000 | O13: 부분회수 | P13: 0.2 | R13: 40228 | S13: 5000 | T13: 2000 | U13: 코스닥 | V13: =IF(ISBLANK(R13),"",DATEDIF(L13,R13,"d")/365) -> 1.1260274 | Y13: YES | Z13: 1000 | AA13: 0 | AB13: 5,000주*@200,000원=2,000백만원(25.3.31 종가기준) | AC13: 이00 | AD13: 이00 김00 | AE13: 이00 김00 | AF13: 이00 김00
E14: PE펀드계정 | F14: 펀드1호 | G14: =IF(ISBLANK($F14),"",VLOOKUP($F14,제안사_펀드현황,3,FALSE)) -> 123-45-67899 | H14: PE-(라) | I14: ABC Inc. | J14: 국내설립법인 | K14: 전자/반도체 | L14: 39818 | M14: 보통주 | N14: 4000 | O14: 회수료 | P14: 0.03 | R14: 40228 | S14: 4500 | T14: 4000 | U14: 장외매각(M&A) | V14: =IF(ISBLANK(R14),"",DATEDIF(L14,R14,"d")/365) -> 1.1232877 | Z14: 0 | AA14: 0 | AC14: 이00 | AD14: 이00 김00 | AE14: 이00 김00 | AF14: 이00 김00
E15: PE펀드계정 | F15: 펀드1호 | G15: =IF(ISBLANK($F15),"",VLOOKUP($F15,제안사_펀드현황,3,FALSE)) -> 123-45-67899 | H15: PE-(가) | I15: ABC Inc. | J15: 국내설립법인 | K15: 전자/반도체 | L15: 39819 | M15: 보통주 | N15: 5000 | O15: 회수료 | P15: 0.03 | R15: 40228 | S15: 5600 | T15: 5000 | U15: 코스닥 | V15: =IF(ISBLANK(R15),"",DATEDIF(L15,R15,"d")/365) -> 1.1205479 | Z15: 0 | AA15: 0 | AC15: 이00 | AD15: 이00 김00 | AE15: 이00 김00 | AF15: 이00 김00
E16: PE펀드계정 | F16: 펀드1호 | G16: =IF(ISBLANK($F16),"",VLOOKUP($F16,제안사_펀드현황,3,FALSE)) -> 123-45-67899 | H16: PE-(가) | I16: ABC Inc. | J16: 국내설립법인 | K16: 전자/반도체 | L16: 39820 | M16: 보통주 | N16: 2000 | O16: 회수료 | P16: 0.03 | R16: 40228 | S16: 2500 | T16: 2000 | U16: 코스닥 | V16: =IF(ISBLANK(R16),"",DATEDIF(L16,R16,"d")/365) -> 1.1178082 | Z16: 0 | AA16: 0 | AC16: 이00 | AD16: 이00 김00 | AE16: 이00 김00 | AF16: 이00 김00
E17: PE펀드계정 | F17: 펀드1호 | G17: =IF(ISBLANK($F17),"",VLOOKUP($F17,제안사_펀드현황,3,FALSE)) -> 123-45-67899 | H17: PE-(가) | I17: ABC Inc. | J17: 국내설립법인 | K17: 전자/반도체 | L17: 39821 | M17: 우선주(RCPS포함) | N17: 2000 | O17: 회수료 | P17: 0 | R17: 40228 | S17: 2000 | T17: 2000 | U17: 코스닥 | V17: =IF(ISBLANK(R17),"",DATEDIF(L17,R17,"d")/365) -> 1.1150685 | Z17: 0 | AA17: 0 | AC17: 이00 | AD17: 이00 김00 | AE17: 이00 김00 | AF17: 이00 김00
E18: PE펀드계정 | F18: 펀드1호 | G18: =IF(ISBLANK($F18),"",VLOOKUP($F18,제안사_펀드현황,3,FALSE)) -> 123-45-67899 | H18: PE-(가) | I18: 가나다 | J18: 국내설립법인 | K18: 전자/반도체 | L18: 39822 | M18: 보통주 | N18: 2000 | O18: 회수료 | P18: 0.03 | R18: 40228 | S18: 2100 | T18: 2000 | U18: 코스닥 | V18: =IF(ISBLANK(R18),"",DATEDIF(L18,R18,"d")/365) -> 1.1123288 | Z18: 0 | AA18: 0 | AC18: 이00 | AD18: 이00 김00 | AE18: 이00 김00 | AF18: 이00 김00
E19: VC펀드계정 | F19: 펀드2호 | G19: =IF(ISBLANK($F19),"",VLOOKUP($F19,제안사_펀드현황,3,FALSE)) -> 000-00-00000 | H19: VC-(가) | I19: ABD㈜ | J19: 국내설립법인 | K19: 기타 | L19: 39823 | M19: 보통주 | N19: 3000 | O19: 부분회수 | P19: 0.02 | Q19: 제안사 자본계정 | R19: 40161 | S19: 4000 | T19: 3000 | U19: 코스닥 | V19: =IF(ISBLANK(R19),"",DATEDIF(L19,R19,"d")/365) -> 0.9260274 | Z19: 0 | AA19: 0
E20: VC펀드계정 | F20: 펀드2호 | G20: =IF(ISBLANK($F20),"",VLOOKUP($F20,제안사_펀드현황,3,FALSE)) -> 000-00-00000 | H20: VC-(가) | I20: ABE㈜ | J20: 국내설립법인 | K20: 전자/반도체 | L20: 39824 | M20: 보통주 | N20: 2000 | O20: 회수료 | P20: 0.03 | Q20: 타운용사 자본계정 | R20: 40228 | S20: 2000 | T20: 2000 | U20: 코스닥 | V20: =IF(ISBLANK(R20),"",DATEDIF(L20,R20,"d")/365) -> 1.1068493 | Z20: 0 | AA20: 0 | AC20: 이00 | AD20: 이00 김00 | AE20: 이00 김00 | AF20: 이00 김00

Sheet 3.1 대표이사&참여인력 개요
E4: 대표이사/참여인력 | H4: 현재 재직회사 | Q4: 인력구분 | R4: 주요평가 대상3인 (Co-GP 2인) | S4: 제재 | U4: 투자관련 경력 (년수) | V4: 산업경력 (년수) | W4: 투자 및 회수실적 | AF4: 현재 관리중인 투자
E5: 성명 | F5: 주민등록번호상 앞6자리 | G5: 국적 | H5: 회사명 | I5: 부서 | J5: 직위 | K5: 제안사 지분율 (%) | L5: 제안사 등기임원 등재여부 | M5: 주요담당업무 | N5: 전화번호 | O5: 휴대전화번호 | P5: 이메일 | S5: 제재경력여부 | T5: 제재내역 | W5: 투자 건수 | X5: 투자건수 (회수료) | Y5: 투자총액 | Z5: 회수총액 | AA5: 미회수 투자자산 투자원금 총액 | AB5: 미회수 투자자산 가치총액 | AC5: 투자금액 가중평균 수익율 | AD5: 투자금액 가중평균수익율 (회수료) | AE5: 회수총액/투자총액 (Multiple) (회수료) | AF5: 미회수 투자건수 | AG5: 미회수투자자산 투자원금총액 | AH5: 미회수투자자산가치총액
E11: 이00 | F11: 700101 | G11: 대한민국 | H11: 가인베스트먼트 | J11: 대표이사 | K11: 50 | L11: YES | M11: 대표이사 | N11: 02-0000-0000 | O11: 010-0000-0000 | Q11: 대표펀드매니저 | R11: YES | S11: NO | U11: {=IF(ISBLANK($E11), "", SUMPRODUCT((OFFSET(대표이사_참여인력_경력,0,0,ROWS(대표이사_참여인력_경력),1)=$E11)*1, OFFSET(대표이사_참여인력_경력,0,13,ROWS(대표이사_참여인력_경력),1), (OFFSET(대표이사_참여인력_경력,0,14,ROWS(대표이사_참여인력_경력),1)="YES")*1) )} -> 23.753425 | V11: {=IF(ISBLANK($E11), "", SUMPRODUCT((OFFSET(대표이사_참여인력_경력,0,0,ROWS(대표이사_참여인력_경력),1)=$E11)*1, OFFSET(대표이사_참여인력_경력,0,13,ROWS(대표이사_참여인력_경력),1), (OFFSET(대표이사_참여인력_경력,0,14,ROWS(대표이사_참여인력_경력),1)="NO")*1, (OFFSET(대표이사_참여인력_경력,0,16,ROWS(대표이사_참여인력_경력),1)="YES")*1) )} -> 0 | W11: {=IF(ISBLANK($E11), "", SUMPRODUCT((OFFSET(대표이사_참여인력_투자현황,0,0,ROWS(대표이사_참여인력_투자현황),1)=$E11)*1, ISTEXT(OFFSET(대표이사_참여인력_투자현황,0,8,ROWS(대표이사_참여인력_투자현황),1))*1))} -> 3 | X11: {=IF(ISBLANK($E11), "", SUMPRODUCT((OFFSET(대표이사_참여인력_투자현황,0,0,ROWS(대표이사_참여인력_투자현황),1)=$E11)*1, (OFFSET(대표이사_참여인력_투자현황,0,17,ROWS(대표이사_참여인력_투자현황),1)="회수료")*1))} -> 1 | Y11: {=IF(ISBLANK($E11), "", SUMPRODUCT((OFFSET(대표이사_참여인력_투자현황,0,0,ROWS(대표이사_참여인력_투자현황),1)=$E11)*1, OFFSET(대표이사_참여인력_투자현황,0,15,ROWS(대표이사_참여인력_투자현황),1)))} -> 1900 | Z11: =IF(ISBLANK($E11), "", SUMPRODUCT((OFFSET(대표이사_참여인력_투자현황,0,0,ROWS(대표이사_참여인력_투자현황),1)=$E11)*1, OFFSET(대표이사_참여인력_투자현황,0,21,ROWS(대표이사_참여인력_투자현황),1))) -> 1546 | AA11: =IF(ISBLANK($E11), "", SUMPRODUCT((OFFSET(대표이사_참여인력_투자현황,0,0,ROWS(대표이사_참여인력_투자현황),1)=$E11)*1, OFFSET(대표이사_참여인력_투자현황,0,28,ROWS(대표이사_참여인력_투자현황),1))) -> 650 | AB11: =IF(ISBLANK($E11), "", SUMPRODUCT((OFFSET(대표이사_참여인력_투자현황,0,0,ROWS(대표이사_참여인력_투자현황),1)=$E11)*1, OFFSET(대표이사_참여인력_투자현황,0,29,ROWS(대표이사_참여인력_투자현황),1))) -> 850 | AC11: =IFERROR(IF(ISBLANK($E11), "", SUMPRODUCT((OFFSET(대표이사_참여인력_투자현황,0,0,ROWS(대표이사_참여인력_투자현황),1)=$E11)*1, OFFSET(대표이사_참여인력_투자현황,0,15,ROWS(대표이사_참여인력_투자현황),1), OFFSET(대표이사_참여인력_투자현황,0,18,ROWS(대표이사_참여인력_투자현황),1))/Y11),0) -> 0.12010526 | AD11: =IFERROR(IF(ISBLANK($E11), "",IF(SUMPRODUCT( (OFFSET(대표이사_참여인력_투자현황,0,0,ROWS(대표이사_참여인력_투자현황),1)=$E11)*1, OFFSET(대표이사_참여인력_투자현황,0,15,ROWS(대표이사_참여인력_투자현황),1), (OFFSET(대표이사_참여인력_투자현황,0,17,ROWS(대표이사_참여인력_투자현황),1)="회수료")*1 ) = 0, 0, SUMPRODUCT( (OFFSET(대표이사_참여인력_투자현황,0,0,ROWS(대표이사_참여인력_투자현황),1)=$E11)*1, OFFSET(대표이사_참여인력_투자현황,0,15,ROWS(대표이사_참여인력_투자현황),1), (OFFSET(대표이사_참여인력_투자현황,0,17,ROWS(대표이사_참여인력_투자현황),1)="회수료")*1, OFFSET(대표이사_참여인력_투자현황,0,18,ROWS(대표이사_참여인력_투자현황),1) ) / SUMPRODUCT( (OFFSET(대표이사_참여인력_투자현황,0,0,ROWS(대표이사_참여인력_투자현황),1)=$E11)*1, OFFSET(대표이사_참여인력_투자현황,0,15,ROWS(대표이사_참여인력_투자현황),1), (OFFSET(대표이사_참여인력_투자현황,0,17,ROWS(대표이사_참여인력_투자현황),1)="회수료")*1 ) )),0) -> 0.146 | AE11: =IFERROR(IF(ISBLANK($E11), "",IF(SUMPRODUCT( (OFFSET(대표이사_참여인력_투자현황,0,0,ROWS(대표이사_참여인력_투자현황),1)=$E11)*1, OFFSET(대표이사_참여인력_투자현황,0,15,ROWS(대표이사_참여인력_투자현황),1), (OFFSET(대표이사_참여인력_투자현황,0,17,ROWS(대표이사_참여인력_투자현황),1)="회수료")*1 ) = 0, 0, SUMPRODUCT( (OFFSET(대표이사_참여인력_투자현황,0,0,ROWS(대표이사_참여인력_투자현황),1)=$E11)*1, OFFSET(대표이사_참여인력_투자현황,0,15,ROWS(대표이사_참여인력_투자현황),1), (OFFSET(대표이사_참여인력_투자현황,0,17,ROWS(대표이사_참여인력_투자현황),1)="회수료")*1, OFFSET(대표이사_참여인력_투자현황,0,19,ROWS(대표이사_참여인력_투자현황),1) ) / SUMPRODUCT( (OFFSET(대표이사_참여인력_투자현황,0,0,ROWS(대표이사_참여인력_투자현황),1)=$E11)*1, OFFSET(대표이사_참여인력_투자현황,0,15,ROWS(대표이사_참여인력_투자현황),1), (OFFSET(대표이사_참여인력_투자현황,0,17,ROWS(대표이사_참여인력_투자현황),1)="회수료")*1 ) )),0) -> 1.146 | AF11: =IF(ISBLANK($E11), "", SUMPRODUCT( (OFFSET(제안사_투자현황,0,24,ROWS(제안사_투자현황),1)=$E11)*1, (OFFSET(제안사_투자현황,0,10,ROWS(제안사_투자현황),1)<>"회수료")*1 ) ) -> 2 | AG11: =IF(ISBLANK($E11), "", SUMPRODUCT( (OFFSET(제안사_투자현황,0,24,ROWS(제안사_투자현황),1)=$E11)*1, (OFFSET(제안사_투자현황,0,10,ROWS(제안사_투자현황),1)<>"회수료")*1, OFFSET(제안사_투자현황,0,21,ROWS(제안사_투자현황),1) ) ) -> 3000 | AH11: =IF(ISBLANK($E11), "", SUMPRODUCT( (OFFSET(제안사_투자현황,0,24,ROWS(제안사_투자현황),1)=$E11)*1, (OFFSET(제안사_투자현황,0,10,ROWS(제안사_투자현황),1)<>"회수료")*1, OFFSET(제안사_투자현황,0,22,ROWS(제안사_투자현황),1) ) ) -> 2000
E12: 김00 | F12: 710101 | G12: 대한민국 | H12: 가인베스트먼트 | I12: 투자1본부 | J12: 투자이사 | N12: 02-0000-0000 | O12: 010-0000-0000 | Q12: 핵심운용인력 | R12: YES | S12: NO | U12: {=IF(ISBLANK($E12), "", SUMPRODUCT((OFFSET(대표이사_참여인력_경력,0,0,ROWS(대표이사_참여인력_경력),1)=$E12)*1, OFFSET(대표이사_참여인력_경력,0,13,ROWS(대표이사_참여인력_경력),1), (OFFSET(대표이사_참여인력_경력,0,14,ROWS(대표이사_참여인력_경력),1)="YES")*1) )} -> 14.008219 | V12: {=IF(ISBLANK($E12), "", SUMPRODUCT((OFFSET(대표이사_참여인력_경력,0,0,ROWS(대표이사_참여인력_경력),1)=$E12)*1, OFFSET(대표이사_참여인력_경력,0,13,ROWS(대표이사_참여인력_경력),1), (OFFSET(대표이사_참여인력_경력,0,14,ROWS(대표이사_참여인력_경력),1)="NO")*1, (OFFSET(대표이사_참여인력_경력,0,16,ROWS(대표이사_참여인력_경력),1)="YES")*1) )} -> 0 | W12: {=IF(ISBLANK($E12), "", SUMPRODUCT((OFFSET(대표이사_참여인력_투자현황,0,0,ROWS(대표이사_참여인력_투자현황),1)=$E12)*1, ISTEXT(OFFSET(대표이사_참여인력_투자현황,0,8,ROWS(대표이사_참여인력_투자현황),1))*1))} -> 1 | X12: {=IF(ISBLANK($E12), "", SUMPRODUCT((OFFSET(대표이사_참여인력_투자현황,0,0,ROWS(대표이사_참여인력_투자현황),1)=$E12)*1, (OFFSET(대표이사_참여인력_투자현황,0,17,ROWS(대표이사_참여인력_투자현황),1)="회수료")*1))} -> 1 | Y12: {=IF(ISBLANK($E12), "", SUMPRODUCT((OFFSET(대표이사_참여인력_투자현황,0,0,ROWS(대표이사_참여인력_투자현황),1)=$E12)*1, OFFSET(대표이사_참여인력_투자현황,0,15,ROWS(대표이사_참여인력_투자현황),1)))} -> 50000 | Z12: =IF(ISBLANK($E12), "", SUMPRODUCT((OFFSET(대표이사_참여인력_투자현황,0,0,ROWS(대표이사_참여인력_투자현황),1)=$E12)*1, OFFSET(대표이사_참여인력_투자현황,0,21,ROWS(대표이사_참여인력_투자현황),1))) -> 0 | AA12: =IF(ISBLANK($E12), "", SUMPRODUCT((OFFSET(대표이사_참여인력_투자현황,0,0,ROWS(대표이사_참여인력_투자현황),1)=$E12)*1, OFFSET(대표이사_참여인력_투자현황,0,28,ROWS(대표이사_참여인력_투자현황),1))) -> 0 | AB12: =IF(ISBLANK($E12), "", SUMPRODUCT((OFFSET(대표이사_참여인력_투자현황,0,0,ROWS(대표이사_참여인력_투자현황),1)=$E12)*1, OFFSET(대표이사_참여인력_투자현황,0,29,ROWS(대표이사_참여인력_투자현황),1))) -> 0 | AC12: =IFERROR(IF(ISBLANK($E12), "", SUMPRODUCT((OFFSET(대표이사_참여인력_투자현황,0,0,ROWS(대표이사_참여인력_투자현황),1)=$E12)*1, OFFSET(대표이사_참여인력_투자현황,0,15,ROWS(대표이사_참여인력_투자현황),1), OFFSET(대표이사_참여인력_투자현황,0,18,ROWS(대표이사_참여인력_투자현황),1))/Y12),0) -> -1 | AD12: =IFERROR(IF(ISBLANK($E12), "",IF(SUMPRODUCT( (OFFSET(대표이사_참여인력_투자현황,0,0,ROWS(대표이사_참여인력_투자현황),1)=$E12)*1, OFFSET(대표이사_참여인력_투자현황,0,15,ROWS(대표이사_참여인력_투자현황),1), (OFFSET(대표이사_참여인력_투자현황,0,17,ROWS(대표이사_참여인력_투자현황),1)="회수료")*1 ) = 0, 0, SUMPRODUCT( (OFFSET(대표이사_참여인력_투자현황,0,0,ROWS(대표이사_참여인력_투자현황),1)=$E12)*1, OFFSET(대표이사_참여인력_투자현황,0,15,ROWS(대표이사_참여인력_투자현황),1), (OFFSET(대표이사_참여인력_투자현황,0,17,ROWS(대표이사_참여인력_투자현황),1)="회수료")*1, OFFSET(대표이사_참여인력_투자현황,0,18,ROWS(대표이사_참여인력_투자현황),1) ) / SUMPRODUCT( (OFFSET(대표이사_참여인력_투자현황,0,0,ROWS(대표이사_참여인력_투자현황),1)=$E12)*1, OFFSET(대표이사_참여인력_투자현황,0,15,ROWS(대표이사_참여인력_투자현황),1), (OFFSET(대표이사_참여인력_투자현황,0,17,ROWS(대표이사_참여인력_투자현황),1)="회수료")*1 ) )),0) -> -1 | AE12: =IFERROR(IF(ISBLANK($E12), "",IF(SUMPRODUCT( (OFFSET(대표이사_참여인력_투자현황,0,0,ROWS(대표이사_참여인력_투자현황),1)=$E12)*1, OFFSET(대표이사_참여인력_투자현황,0,15,ROWS(대표이사_참여인력_투자현황),1), (OFFSET(대표이사_참여인력_투자현황,0,17,ROWS(대표이사_참여인력_투자현황),1)="회수료")*1 ) = 0, 0, SUMPRODUCT( (OFFSET(대표이사_참여인력_투자현황,0,0,ROWS(대표이사_참여인력_투자현황),1)=$E12)*1, OFFSET(대표이사_참여인력_투자현황,0,15,ROWS(대표이사_참여인력_투자현황),1), (OFFSET(대표이사_참여인력_투자현황,0,17,ROWS(대표이사_참여인력_투자현황),1)="회수료")*1, OFFSET(대표이사_참여인력_투자현황,0,19,ROWS(대표이사_참여인력_투자현황),1) ) / SUMPRODUCT( (OFFSET(대표이사_참여인력_투자현황,0,0,ROWS(대표이사_참여인력_투자현황),1)=$E12)*1, OFFSET(대표이사_참여인력_투자현황,0,15,ROWS(대표이사_참여인력_투자현황),1), (OFFSET(대표이사_참여인력_투자현황,0,17,ROWS(대표이사_참여인력_투자현황),1)="회수료")*1 ) )),0) -> 0 | AF12: =IF(ISBLANK($E12), "", SUMPRODUCT( (OFFSET(제안사_투자현황,0,24,ROWS(제안사_투자현황),1)=$E12)*1, (OFFSET(제안사_투자현황,0,10,ROWS(제안사_투자현황),1)<>"회수료")*1 ) ) -> 0 | AG12: =IF(ISBLANK($E12), "", SUMPRODUCT( (OFFSET(제안사_투자현황,0,24,ROWS(제안사_투자현황),1)=$E12)*1, (OFFSET(제안사_투자현황,0,10,ROWS(제안사_투자현황),1)<>"회수료")*1, OFFSET(제안사_투자현황,0,21,ROWS(제안사_투자현황),1) ) ) -> 0 | AH12: =IF(ISBLANK($E12), "", SUMPRODUCT( (OFFSET(제안사_투자현황,0,24,ROWS(제안사_투자현황),1)=$E12)*1, (OFFSET(제안사_투자현황,0,10,ROWS(제안사_투자현황),1)<>"회수료")*1, OFFSET(제안사_투자현황,0,22,ROWS(제안사_투자현황),1) ) ) -> 0
E13: 박00 | F13: 720101 | G13: 대한민국 | H13: 가인베스트먼트 | I13: 투자1본부 | J13: 투자이사 | N13: 02-0000-0000 | O13: 010-0000-0000 | Q13: 핵심운용인력 | R13: YES | S13: NO | U13: {=IF(ISBLANK($E13), "", SUMPRODUCT((OFFSET(대표이사_참여인력_경력,0,0,ROWS(대표이사_참여인력_경력),1)=$E13)*1, OFFSET(대표이사_참여인력_경력,0,13,ROWS(대표이사_참여인력_경력),1), (OFFSET(대표이사_참여인력_경력,0,14,ROWS(대표이사_참여인력_경력),1)="YES")*1) )} -> 0 | V13: {=IF(ISBLANK($E13), "", SUMPRODUCT((OFFSET(대표이사_참여인력_경력,0,0,ROWS(대표이사_참여인력_경력),1)=$E13)*1, OFFSET(대표이사_참여인력_경력,0,13,ROWS(대표이사_참여인력_경력),1), (OFFSET(대표이사_참여인력_경력,0,14,ROWS(대표이사_참여인력_경력),1)="NO")*1, (OFFSET(대표이사_참여인력_경력,0,16,ROWS(대표이사_참여인력_경력),1)="YES")*1) )} -> 0 | W13: {=IF(ISBLANK($E13), "", SUMPRODUCT((OFFSET(대표이사_참여인력_투자현황,0,0,ROWS(대표이사_참여인력_투자현황),1)=$E13)*1, ISTEXT(OFFSET(대표이사_참여인력_투자현황,0,8,ROWS(대표이사_참여인력_투자현황),1))*1))} -> 2 | X13: {=IF(ISBLANK($E13), "", SUMPRODUCT((OFFSET(대표이사_참여인력_투자현황,0,0,ROWS(대표이사_참여인력_투자현황),1)=$E13)*1, (OFFSET(대표이사_참여인력_투자현황,0,17,ROWS(대표이사_참여인력_투자현황),1)="회수료")*1))} -> 0 | Y13: {=IF(ISBLANK($E13), "", SUMPRODUCT((OFFSET(대표이사_참여인력_투자현황,0,0,ROWS(대표이사_참여인력_투자현황),1)=$E13)*1, OFFSET(대표이사_참여인력_투자현황,0,15,ROWS(대표이사_참여인력_투자현황),1)))} -> 250 | Z13: =IF(ISBLANK($E13), "", SUMPRODUCT((OFFSET(대표이사_참여인력_투자현황,0,0,ROWS(대표이사_참여인력_투자현황),1)=$E13)*1, OFFSET(대표이사_참여인력_투자현황,0,21,ROWS(대표이사_참여인력_투자현황),1))) -> 290 | AA13: =IF(ISBLANK($E13), "", SUMPRODUCT((OFFSET(대표이사_참여인력_투자현황,0,0,ROWS(대표이사_참여인력_투자현황),1)=$E13)*1, OFFSET(대표이사_참여인력_투자현황,0,28,ROWS(대표이사_참여인력_투자현황),1))) -> 0 | AB13: =IF(ISBLANK($E13), "", SUMPRODUCT((OFFSET(대표이사_참여인력_투자현황,0,0,ROWS(대표이사_참여인력_투자현황),1)=$E13)*1, OFFSET(대표이사_참여인력_투자현황,0,29,ROWS(대표이사_참여인력_투자현황),1))) -> 0 | AC13: =IFERROR(IF(ISBLANK($E13), "", SUMPRODUCT((OFFSET(대표이사_참여인력_투자현황,0,0,ROWS(대표이사_참여인력_투자현황),1)=$E13)*1, OFFSET(대표이사_참여인력_투자현황,0,15,ROWS(대표이사_참여인력_투자현황),1), OFFSET(대표이사_참여인력_투자현황,0,18,ROWS(대표이사_참여인력_투자현황),1))/Y13),0) -> 0 | AD13: =IFERROR(IF(ISBLANK($E13), "",IF(SUMPRODUCT( (OFFSET(대표이사_참여인력_투자현황,0,0,ROWS(대표이사_참여인력_투자현황),1)=$E13)*1, OFFSET(대표이사_참여인력_투자현황,0,15,ROWS(대표이사_참여인력_투자현황),1), (OFFSET(대표이사_참여인력_투자현황,0,17,ROWS(대표이사_참여인력_투자현황),1)="회수료")*1 ) = 0, 0, SUMPRODUCT( (OFFSET(대표이사_참여인력_투자현황,0,0,ROWS(대표이사_참여인력_투자현황),1)=$E13)*1, OFFSET(대표이사_참여인력_투자현황,0,15,ROWS(대표이사_참여인력_투자현황),1), (OFFSET(대표이사_참여인력_투자현황,0,17,ROWS(대표이사_참여인력_투자현황),1)="회수료")*1, OFFSET(대표이사_참여인력_투자현황,0,18,ROWS(대표이사_참여인력_투자현황),1) ) / SUMPRODUCT( (OFFSET(대표이사_참여인력_투자현황,0,0,ROWS(대표이사_참여인력_투자현황),1)=$E13)*1, OFFSET(대표이사_참여인력_투자현황,0,15,ROWS(대표이사_참여인력_투자현황),1), (OFFSET(대표이사_참여인력_투자현황,0,17,ROWS(대표이사_참여인력_투자현황),1)="회수료")*1 ) )),0) -> 0 | AE13: =IFERROR(IF(ISBLANK($E13), "",IF(SUMPRODUCT( (OFFSET(대표이사_참여인력_투자현황,0,0,ROWS(대표이사_참여인력_투자현황),1)=$E13)*1, OFFSET(대표이사_참여인력_투자현황,0,15,ROWS(대표이사_참여인력_투자현황),1), (OFFSET(대표이사_참여인력_투자현황,0,17,ROWS(대표이사_참여인력_투자현황),1)="회수료")*1 ) = 0, 0, SUMPRODUCT( (OFFSET(대표이사_참여인력_투자현황,0,0,ROWS(대표이사_참여인력_투자현황),1)=$E13)*1, OFFSET(대표이사_참여인력_투자현황,0,15,ROWS(대표이사_참여인력_투자현황),1), (OFFSET(대표이사_참여인력_투자현황,0,17,ROWS(대표이사_참여인력_투자현황),1)="회수료")*1, OFFSET(대표이사_참여인력_투자현황,0,19,ROWS(대표이사_참여인력_투자현황),1) ) / SUMPRODUCT( (OFFSET(대표이사_참여인력_투자현황,0,0,ROWS(대표이사_참여인력_투자현황),1)=$E13)*1, OFFSET(대표이사_참여인력_투자현황,0,15,ROWS(대표이사_참여인력_투자현황),1), (OFFSET(대표이사_참여인력_투자현황,0,17,ROWS(대표이사_참여인력_투자현황),1)="회수료")*1 ) )),0) -> 0 | AF13: =IF(ISBLANK($E13), "", SUMPRODUCT( (OFFSET(제안사_투자현황,0,24,ROWS(제안사_투자현황),1)=$E13)*1, (OFFSET(제안사_투자현황,0,10,ROWS(제안사_투자현황),1)<>"회수료")*1 ) ) -> 0 | AG13: =IF(ISBLANK($E13), "", SUMPRODUCT( (OFFSET(제안사_투자현황,0,24,ROWS(제안사_투자현황),1)=$E13)*1, (OFFSET(제안사_투자현황,0,10,ROWS(제안사_투자현황),1)<>"회수료")*1, OFFSET(제안사_투자현황,0,21,ROWS(제안사_투자현황),1) ) ) -> 0 | AH13: =IF(ISBLANK($E13), "", SUMPRODUCT( (OFFSET(제안사_투자현황,0,24,ROWS(제안사_투자현황),1)=$E13)*1, (OFFSET(제안사_투자현황,0,10,ROWS(제안사_투자현황),1)<>"회수료")*1, OFFSET(제안사_투자현황,0,22,ROWS(제안사_투자현황),1) ) ) -> 0
E14: 최00 | F14: 730101 | G14: 대한민국 | H14: 가인베스트먼트 | I14: 투자1본부 | J14: 투자이사 | N14: 02-0000-0000 | O14: 010-0000-0000 | Q14: 핵심운용인력 | R14: NO | S14: NO | U14: {=IF(ISBLANK($E14), "", SUMPRODUCT((OFFSET(대표이사_참여인력_경력,0,0,ROWS(대표이사_참여인력_경력),1)=$E14)*1, OFFSET(대표이사_참여인력_경력,0,13,ROWS(대표이사_참여인력_경력),1), (OFFSET(대표이사_참여인력_경력,0,14,ROWS(대표이사_참여인력_경력),1)="YES")*1) )} -> 0 | V14: {=IF(ISBLANK($E14), "", SUMPRODUCT((OFFSET(대표이사_참여인력_경력,0,0,ROWS(대표이사_참여인력_경력),1)=$E14)*1, OFFSET(대표이사_참여인력_경력,0,13,ROWS(대표이사_참여인력_경력),1), (OFFSET(대표이사_참여인력_경력,0,14,ROWS(대표이사_참여인력_경력),1)="NO")*1, (OFFSET(대표이사_참여인력_경력,0,16,ROWS(대표이사_참여인력_경력),1)="YES")*1) )} -> 0 | W14: {=IF(ISBLANK($E14), "", SUMPRODUCT((OFFSET(대표이사_참여인력_투자현황,0,0,ROWS(대표이사_참여인력_투자현황),1)=$E14)*1, ISTEXT(OFFSET(대표이사_참여인력_투자현황,0,8,ROWS(대표이사_참여인력_투자현황),1))*1))} -> 1 | X14: =IF(ISBLANK($E14), "", SUMPRODUCT((OFFSET(대표이사_참여인력_투자현황,0,0,ROWS(대표이사_참여인력_투자현황),1)=$E14)*1, (OFFSET(대표이사_참여인력_투자현황,0,17,ROWS(대표이사_참여인력_투자현황),1)="회수료")*1)) -> 1 | Y14: {=IF(ISBLANK($E14), "", SUMPRODUCT((OFFSET(대표이사_참여인력_투자현황,0,0,ROWS(대표이사_참여인력_투자현황),1)=$E14)*1, OFFSET(대표이사_참여인력_투자현황,0,15,ROWS(대표이사_참여인력_투자현황),1)))} -> 390 | Z14: =IF(ISBLANK($E14), "", SUMPRODUCT((OFFSET(대표이사_참여인력_투자현황,0,0,ROWS(대표이사_참여인력_투자현황),1)=$E14)*1, OFFSET(대표이사_참여인력_투자현황,0,21,ROWS(대표이사_참여인력_투자현황),1))) -> 200 | AA14: =IF(ISBLANK($E14), "", SUMPRODUCT((OFFSET(대표이사_참여인력_투자현황,0,0,ROWS(대표이사_참여인력_투자현황),1)=$E14)*1, OFFSET(대표이사_참여인력_투자현황,0,28,ROWS(대표이사_참여인력_투자현황),1))) -> 0 | AB14: =IF(ISBLANK($E14), "", SUMPRODUCT((OFFSET(대표이사_참여인력_투자현황,0,0,ROWS(대표이사_참여인력_투자현황),1)=$E14)*1, OFFSET(대표이사_참여인력_투자현황,0,29,ROWS(대표이사_참여인력_투자현황),1))) -> 0 | AC14: =IFERROR(IF(ISBLANK($E14), "", SUMPRODUCT((OFFSET(대표이사_참여인력_투자현황,0,0,ROWS(대표이사_참여인력_투자현황),1)=$E14)*1, OFFSET(대표이사_참여인력_투자현황,0,15,ROWS(대표이사_참여인력_투자현황),1), OFFSET(대표이사_참여인력_투자현황,0,18,ROWS(대표이사_참여인력_투자현황),1))/Y14),0) -> 0 | AD14: =IFERROR(IF(ISBLANK($E14), "",IF(SUMPRODUCT( (OFFSET(대표이사_참여인력_투자현황,0,0,ROWS(대표이사_참여인력_투자현황),1)=$E14)*1, OFFSET(대표이사_참여인력_투자현황,0,15,ROWS(대표이사_참여인력_투자현황),1), (OFFSET(대표이사_참여인력_투자현황,0,17,ROWS(대표이사_참여인력_투자현황),1)="회수료")*1 ) = 0, 0, SUMPRODUCT( (OFFSET(대표이사_참여인력_투자현황,0,0,ROWS(대표이사_참여인력_투자현황),1)=$E14)*1, OFFSET(대표이사_참여인력_투자현황,0,15,ROWS(대표이사_참여인력_투자현황),1), (OFFSET(대표이사_참여인력_투자현황,0,17,ROWS(대표이사_참여인력_투자현황),1)="회수료")*1, OFFSET(대표이사_참여인력_투자현황,0,18,ROWS(대표이사_참여인력_투자현황),1) ) / SUMPRODUCT( (OFFSET(대표이사_참여인력_투자현황,0,0,ROWS(대표이사_참여인력_투자현황),1)=$E14)*1, OFFSET(대표이사_참여인력_투자현황,0,15,ROWS(대표이사_참여인력_투자현황),1), (OFFSET(대표이사_참여인력_투자현황,0,17,ROWS(대표이사_참여인력_투자현황),1)="회수료")*1 ) )),0) -> 0 | AE14: =IFERROR(IF(ISBLANK($E14), "",IF(SUMPRODUCT( (OFFSET(대표이사_참여인력_투자현황,0,0,ROWS(대표이사_참여인력_투자현황),1)=$E14)*1, OFFSET(대표이사_참여인력_투자현황,0,15,ROWS(대표이사_참여인력_투자현황),1), (OFFSET(대표이사_참여인력_투자현황,0,17,ROWS(대표이사_참여인력_투자현황),1)="회수료")*1 ) = 0, 0, SUMPRODUCT( (OFFSET(대표이사_참여인력_투자현황,0,0,ROWS(대표이사_참여인력_투자현황),1)=$E14)*1, OFFSET(대표이사_참여인력_투자현황,0,15,ROWS(대표이사_참여인력_투자현황),1), (OFFSET(대표이사_참여인력_투자현황,0,17,ROWS(대표이사_참여인력_투자현황),1)="회수료")*1, OFFSET(대표이사_참여인력_투자현황,0,19,ROWS(대표이사_참여인력_투자현황),1) ) / SUMPRODUCT( (OFFSET(대표이사_참여인력_투자현황,0,0,ROWS(대표이사_참여인력_투자현황),1)=$E14)*1, OFFSET(대표이사_참여인력_투자현황,0,15,ROWS(대표이사_참여인력_투자현황),1), (OFFSET(대표이사_참여인력_투자현황,0,17,ROWS(대표이사_참여인력_투자현황),1)="회수료")*1 ) )),0) -> 0.51282051 | AF14: =IF(ISBLANK($E14), "", SUMPRODUCT( (OFFSET(제안사_투자현황,0,24,ROWS(제안사_투자현황),1)=$E14)*1, (OFFSET(제안사_투자현황,0,10,ROWS(제안사_투자현황),1)<>"회수료")*1 ) ) -> 0 | AG14: =IF(ISBLANK($E14), "", SUMPRODUCT( (OFFSET(제안사_투자현황,0,24,ROWS(제안사_투자현황),1)=$E14)*1, (OFFSET(제안사_투자현황,0,10,ROWS(제안사_투자현황),1)<>"회수료")*1, OFFSET(제안사_투자현황,0,21,ROWS(제안사_투자현황),1) ) ) -> 0 | AH14: =IF(ISBLANK($E14), "", SUMPRODUCT( (OFFSET(제안사_투자현황,0,24,ROWS(제안사_투자현황),1)=$E14)*1, (OFFSET(제안사_투자현황,0,10,ROWS(제안사_투자현황),1)<>"회수료")*1, OFFSET(제안사_투자현황,0,22,ROWS(제안사_투자현황),1) ) ) -> 0
E15: 성00 | F15: 700101 | G15: 대한민국 | H15: 가인베스트먼트 | I15: 투자1본부 | J15: 투자이사 | N15: 02-0000-0000 | O15: 010-0000-0000 | Q15: 관리인력 | R15: NO | S15: NO | U15: {=IF(ISBLANK($E15), "", SUMPRODUCT((OFFSET(대표이사_참여인력_경력,0,0,ROWS(대표이사_참여인력_경력),1)=$E15)*1, OFFSET(대표이사_참여인력_경력,0,13,ROWS(대표이사_참여인력_경력),1), (OFFSET(대표이사_참여인력_경력,0,14,ROWS(대표이사_참여인력_경력),1)="YES")*1) )} -> 0 | V15: {=IF(ISBLANK($E15), "", SUMPRODUCT((OFFSET(대표이사_참여인력_경력,0,0,ROWS(대표이사_참여인력_경력),1)=$E15)*1, OFFSET(대표이사_참여인력_경력,0,13,ROWS(대표이사_참여인력_경력),1), (OFFSET(대표이사_참여인력_경력,0,14,ROWS(대표이사_참여인력_경력),1)="NO")*1, (OFFSET(대표이사_참여인력_경력,0,16,ROWS(대표이사_참여인력_경력),1)="YES")*1) )} -> 0 | W15: {=IF(ISBLANK($E15), "", SUMPRODUCT((OFFSET(대표이사_참여인력_투자현황,0,0,ROWS(대표이사_참여인력_투자현황),1)=$E15)*1, ISTEXT(OFFSET(대표이사_참여인력_투자현황,0,8,ROWS(대표이사_참여인력_투자현황),1))*1))} -> 0 | X15: =IF(ISBLANK($E15), "", SUMPRODUCT((OFFSET(대표이사_참여인력_투자현황,0,0,ROWS(대표이사_참여인력_투자현황),1)=$E15)*1, (OFFSET(대표이사_참여인력_투자현황,0,17,ROWS(대표이사_참여인력_투자현황),1)="회수료")*1)) -> 0 | Y15: {=IF(ISBLANK($E15), "", SUMPRODUCT((OFFSET(대표이사_참여인력_투자현황,0,0,ROWS(대표이사_참여인력_투자현황),1)=$E15)*1, OFFSET(대표이사_참여인력_투자현황,0,15,ROWS(대표이사_참여인력_투자현황),1)))} -> 0 | Z15: =IF(ISBLANK($E15), "", SUMPRODUCT((OFFSET(대표이사_참여인력_투자현황,0,0,ROWS(대표이사_참여인력_투자현황),1)=$E15)*1, OFFSET(대표이사_참여인력_투자현황,0,21,ROWS(대표이사_참여인력_투자현황),1))) -> 0 | AA15: =IF(ISBLANK($E15), "", SUMPRODUCT((OFFSET(대표이사_참여인력_투자현황,0,0,ROWS(대표이사_참여인력_투자현황),1)=$E15)*1, OFFSET(대표이사_참여인력_투자현황,0,28,ROWS(대표이사_참여인력_투자현황),1))) -> 0 | AB15: =IF(ISBLANK($E15), "", SUMPRODUCT((OFFSET(대표이사_참여인력_투자현황,0,0,ROWS(대표이사_참여인력_투자현황),1)=$E15)*1, OFFSET(대표이사_참여인력_투자현황,0,29,ROWS(대표이사_참여인력_투자현황),1))) -> 0 | AC15: =IFERROR(IF(ISBLANK($E15), "", SUMPRODUCT((OFFSET(대표이사_참여인력_투자현황,0,0,ROWS(대표이사_참여인력_투자현황),1)=$E15)*1, OFFSET(대표이사_참여인력_투자현황,0,15,ROWS(대표이사_참여인력_투자현황),1), OFFSET(대표이사_참여인력_투자현황,0,18,ROWS(대표이사_참여인력_투자현황),1))/Y15),0) -> 0 | AD15: =IFERROR(IF(ISBLANK($E15), "",IF(SUMPRODUCT( (OFFSET(대표이사_참여인력_투자현황,0,0,ROWS(대표이사_참여인력_투자현황),1)=$E15)*1, OFFSET(대표이사_참여인력_투자현황,0,15,ROWS(대표이사_참여인력_투자현황),1), (OFFSET(대표이사_참여인력_투자현황,0,17,ROWS(대표이사_참여인력_투자현황),1)="회수료")*1 ) = 0, 0, SUMPRODUCT( (OFFSET(대표이사_참여인력_투자현황,0,0,ROWS(대표이사_참여인력_투자현황),1)=$E15)*1, OFFSET(대표이사_참여인력_투자현황,0,15,ROWS(대표이사_참여인력_투자현황),1), (OFFSET(대표이사_참여인력_투자현황,0,17,ROWS(대표이사_참여인력_투자현황),1)="회수료")*1, OFFSET(대표이사_참여인력_투자현황,0,18,ROWS(대표이사_참여인력_투자현황),1) ) / SUMPRODUCT( (OFFSET(대표이사_참여인력_투자현황,0,0,ROWS(대표이사_참여인력_투자현황),1)=$E15)*1, OFFSET(대표이사_참여인력_투자현황,0,15,ROWS(대표이사_참여인력_투자현황),1), (OFFSET(대표이사_참여인력_투자현황,0,17,ROWS(대표이사_참여인력_투자현황),1)="회수료")*1 ) )),0) -> 0 | AE15: =IFERROR(IF(ISBLANK($E15), "",IF(SUMPRODUCT( (OFFSET(대표이사_참여인력_투자현황,0,0,ROWS(대표이사_참여인력_투자현황),1)=$E15)*1, OFFSET(대표이사_참여인력_투자현황,0,15,ROWS(대표이사_참여인력_투자현황),1), (OFFSET(대표이사_참여인력_투자현황,0,17,ROWS(대표이사_참여인력_투자현황),1)="회수료")*1 ) = 0, 0, SUMPRODUCT( (OFFSET(대표이사_참여인력_투자현황,0,0,ROWS(대표이사_참여인력_투자현황),1)=$E15)*1, OFFSET(대표이사_참여인력_투자현황,0,15,ROWS(대표이사_참여인력_투자현황),1), (OFFSET(대표이사_참여인력_투자현황,0,17,ROWS(대표이사_참여인력_투자현황),1)="회수료")*1, OFFSET(대표이사_참여인력_투자현황,0,19,ROWS(대표이사_참여인력_투자현황),1) ) / SUMPRODUCT( (OFFSET(대표이사_참여인력_투자현황,0,0,ROWS(대표이사_참여인력_투자현황),1)=$E15)*1, OFFSET(대표이사_참여인력_투자현황,0,15,ROWS(대표이사_참여인력_투자현황),1), (OFFSET(대표이사_참여인력_투자현황,0,17,ROWS(대표이사_참여인력_투자현황),1)="회수료")*1 ) )),0) -> 0 | AF15: =IF(ISBLANK($E15), "", SUMPRODUCT( (OFFSET(제안사_투자현황,0,24,ROWS(제안사_투자현황),1)=$E15)*1, (OFFSET(제안사_투자현황,0,10,ROWS(제안사_투자현황),1)<>"회수료")*1 ) ) -> 0 | AG15: =IF(ISBLANK($E15), "", SUMPRODUCT( (OFFSET(제안사_투자현황,0,24,ROWS(제안사_투자현황),1)=$E15)*1, (OFFSET(제안사_투자현황,0,10,ROWS(제안사_투자현황),1)<>"회수료")*1, OFFSET(제안사_투자현황,0,21,ROWS(제안사_투자현황),1) ) ) -> 0 | AH15: =IF(ISBLANK($E15), "", SUMPRODUCT( (OFFSET(제안사_투자현황,0,24,ROWS(제안사_투자현황),1)=$E15)*1, (OFFSET(제안사_투자현황,0,10,ROWS(제안사_투자현황),1)<>"회수료")*1, OFFSET(제안사_투자현황,0,22,ROWS(제안사_투자현황),1) ) ) -> 0

Sheet 3.2 참여인력 투자현황
E4: 대표이사/참여인력 | G4: 회사경력 | I4: 부서경력 | M4: 투자 내역 | Y4: 회수투자자산 | AD4: 부실발생기준에 의거한 회계상 감액내역 | AF4: 미회수투자자산 | AJ4: 투자건 담당 기간 | AL4: 투자 계정 구분 | AM4: 담당 역할(중복선택 가능) | AS4: 투자펀드 내역(펀드계정일 경우 작성) | AY4: 기타사항 | AZ4: 검증인
E5: 성명 | F5: 주민등록번호상 앞6자리 | G5: 재직회사명 | H5: 기간 | I5: 부서명 | J5: 시작일 | K5: 종료일 | L5: 기간 | M5: 피투자기업명 | N5: 피투자기업 법인유형 | O5: 피투자기업 주요산업분야 | P5: 기업규모 | Q5: 투자자금 용도 및 사업내용 | R5: 투자일 | S5: 투자형태 | T5: 투자금액 | U5: 투자시점 취득 지분율 | V5: 회수여부 | W5: 투자 수익율 (IRR) | X5: 투자 수익율 (Multiple) | Y5: 최종회수일 | Z5: 회수총액 | AA5: 투자원금 | AB5: 회수방법 | AC5: 투자 기간 | AD5: 감액 여부 | AE5: 감액 금액 | AF5: 시장성유무 | AG5: 투자원금 | AH5: 가치 | AI5: 가치산출근거 | AJ5: 시작일 | AK5: 종료일 | AM5: 의사 결정 | AN5: 발굴 | AO5: 투자 검토 및 실행 | AP5: 사후 관리 | AQ5: 회수 | AR5: 담당 역할 상세서술 | AS5: 펀드명 | AT5: 펀드법적유형 | AU5: 인력구분 | AV5: 펀드 담당업무 시작일 | AW5: 펀드 담당업무 종료일 | AX5: 기간 (년수) | AZ5: 성명 | BA5: 소속 | BB5: 연락처
A6: =IFERROR(SUMPRODUCT((OFFSET(대표이사_참여인력_투자현황,0,0,ROWS(대표이사_참여인력_투자현황),1)=$E11)*1,OFFSET(대표이사_참여인력_투자현황,0,59,ROWS(대표이사_참여인력_투자현황),1),OFFSET(대표이사_참여인력_투자현황,0,80,ROWS(대표이사_참여인력_투자현황),1)),0)
A7: =IF(#REF!=0,IF( AND(#REF!>=#REF!,#REF!<=#REF!,#REF!=1),1,0),0) -> #REF!
A8: =IFERROR(SUMPRODUCT((OFFSET(대표이사_참여인력_투자현황,0,0,ROWS(대표이사_참여인력_투자현황),1)=$E11)*1, (OFFSET(대표이사_참여인력_투자현황,0,17,ROWS(대표이사_참여인력_투자현황),1)="회수료")*1,OFFSET(대표이사_참여인력_투자현황,0,59,ROWS(대표이사_참여인력_투자현황),1),OFFSET(대표이사_참여인력_투자현황,0,81,ROWS(대표이사_참여인력_투자현황),1)),0) -> 0
A9: =SUMPRODUCT((OFFSET(대표이사_참여인력_투자현황,0,0,ROWS(대표이사_참여인력_투자현황),1)=$E11)*1,OFFSET(대표이사_참여인력_투자현황,0,74,ROWS(대표이사_참여인력_투자현황),1)) -> 0
E11: 이00 | F11: =IF(ISBLANK($E11), "", VLOOKUP($E11,대표이사_참여인력_개요,2,FALSE)) -> 700101 | G11: 가인베스트먼트 | H11: {=IF(ISBLANK(G11),"",SUMPRODUCT( (OFFSET(대표이사_참여인력_경력,0,0,ROWS(대표이사_참여인력_경력),1)=$E11)*1, (OFFSET(대표이사_참여인력_경력,0,3,ROWS(대표이사_참여인력_경력),1)=$G11)*1, OFFSET(대표이사_참여인력_경력,0,7,ROWS(대표이사_참여인력_경력),1) ) /COUNTIFS(OFFSET(대표이사_참여인력_경력,0,0,ROWS(대표이사_참여인력_경력),1),$E11,OFFSET(대표이사_참여인력_경력,0,3,ROWS(대표이사_참여인력_경력),1),$G11))} -> 11.005479 | I11: PE본부 | J11: 41640 | K11: 42369 | L11: {=IF(ISBLANK(I11),"",SUMPRODUCT( (OFFSET(대표이사_참여인력_경력,0,0,ROWS(대표이사_참여인력_경력),1)=$E11)*1, (OFFSET(대표이사_참여인력_경력,0,3,ROWS(대표이사_참여인력_경력),1)=$G11)*1, (OFFSET(대표이사_참여인력_경력,0,8,ROWS(대표이사_참여인력_경력),1)=$I11)*1, OFFSET(대표이사_참여인력_경력,0,13,ROWS(대표이사_참여인력_경력),1) ) /COUNTIFS(OFFSET(대표이사_참여인력_경력,0,0,ROWS(대표이사_참여인력_경력),1),$E11,OFFSET(대표이사_참여인력_경력,0,3,ROWS(대표이사_참여인력_경력),1),$G11,OFFSET(대표이사_참여인력_경력,0,8,ROWS(대표이사_참여인력_경력),1),$I11 ))} -> 10.005479 | M11: A기업 | N11: 국내설립법인 | O11: 전자/반도체 | P11: 중소(벤처) | Q11: 운영자금 | R11: 41671 | S11: 보통주 | T11: 1000 | U11: 0.501 | V11: 회수료 | W11: 0.146 | X11: 1.146 | Y11: 42368 | Z11: 1146 | AA11: 500 | AB11: 코스닥 | AC11: =IF(ISBLANK(Y11),DATEDIF(R11,제안서작성기준일,"d")/365,DATEDIF(R11,Y11,"d")/365) -> 1.909589 | AD11: YES | AE11: 500 | AF11: YES | AG11: 0 | AH11: 0 | AL11: PE펀드계정투자 | AM11: YES | AN11: NO | AO11: NO | AP11: NO | AQ11: NO | AS11: 펀드1호 | AT11: PE-(가) | AU11: 대표펀드매니저 | AX11: =IF(ISBLANK(AV11),"",DATEDIF(AV11,AW11,"d")/365) | AZ11: 김00 | BA11: 가인베스트먼트㈜ | BB11: 0000-0000
